BEGIN:VCALENDAR
VERSION:2.0
PRODID:-//Baie-Saint-Paul Guide//NONSGML kigkonsult.se iCalcreator 2.30.10/
 /
CALSCALE:GREGORIAN
METHOD:PUBLISH
UID:c5ddce06-f488-4962-b9fc-27c51d0cd20b
X-WR-CALNAME:iCagenda
X-WR-CALDESC:Event Management Extension for Joomla!
X-WR-RELCALID:3E26604A-50F4-4449-8B3E-E4F4932D05B5
X-WR-TIMEZONE:America/Toronto
BEGIN:VTIMEZONE
TZID:America/Toronto
BEGIN:STANDARD
TZNAME:EST
DTSTART:20241103T020000
TZOFFSETFROM:-0400
TZOFFSETTO:-0500
RDATE:20251102T020000
RDATE:20261101T020000
END:STANDARD
BEGIN:DAYLIGHT
TZNAME:EDT
DTSTART:20250309T020000
TZOFFSETFROM:-0500
TZOFFSETTO:-0400
RDATE:20260308T020000
END:DAYLIGHT
END:VTIMEZONE
BEGIN:VEVENT
UID:780bbe84-0662-41ae-9fca-28108a507c99
DTSTAMP:20260423T031536Z
CATEGORIES:Musée d'art contemporain de Baie-Saint-Paul
CLASS:PUBLIC
DESCRIPTION;ALTREP="CID:<FFFF__=0ABBE548DFE235B58f9e8a93d@coffeebean.com>":
 Avec l’aide de notre équipe de médiation\, venez essayer la linogravure ! 
 Inspirez-vous des animaux des Fables de La Fontaine pour créer des images 
 uniques.Activité gratuite et ouverte à tout le monde !\nLinogravure : Sur 
 une plaque de linoleum\, composé de liège\, d’huile de lin\, de gomme et d
 e résine\, venez graver une image de votre choix.Cette technique de gravur
 e amusante permet de graver vos motifs préférés dans le linoléum à l'aide 
 d'un outil spécial et de transférer votre motif sur du papier avec de l'en
 cre.\nEn cas de pluie\, l’activité sera reportée à la semaine suivante.
DTSTART:20250710T210000Z
DTEND:20250710T230000Z
GEO:+47.440292;-70.505592
LOCATION:Placette Desjardins
ORGANIZER:
SEQUENCE:1
SUMMARY:5 à 7 créatif - Initiation à la linogravure
TRANSP:OPAQUE
URL:https://baiesaintpaulguide.com/component/icagenda/5-a-7-creatif-initiat
 ion-a-la-linogravure.html?Itemid=103
END:VEVENT
END:VCALENDAR
