BEGIN:VCALENDAR
VERSION:2.0
PRODID:-//Baie-Saint-Paul Guide//NONSGML kigkonsult.se iCalcreator 2.30.10/
 /
CALSCALE:GREGORIAN
METHOD:PUBLISH
UID:f433279a-8b28-4c37-899b-ab865e3dd707
X-WR-CALNAME:iCagenda
X-WR-CALDESC:Event Management Extension for Joomla!
X-WR-RELCALID:3E26604A-50F4-4449-8B3E-E4F4932D05B5
X-WR-TIMEZONE:America/Toronto
BEGIN:VTIMEZONE
TZID:America/Toronto
BEGIN:STANDARD
TZNAME:EST
DTSTART:20241103T020000
TZOFFSETFROM:-0400
TZOFFSETTO:-0500
RDATE:20251102T020000
RDATE:20261101T020000
END:STANDARD
BEGIN:DAYLIGHT
TZNAME:EDT
DTSTART:20250309T020000
TZOFFSETFROM:-0500
TZOFFSETTO:-0400
RDATE:20260308T020000
END:DAYLIGHT
END:VTIMEZONE
BEGIN:VEVENT
UID:0b2e4891-f011-4649-80f4-0ee7f5c7e891
DTSTAMP:20260423T031404Z
CATEGORIES:Animation Baie-Saint-Paul
CLASS:PUBLIC
DESCRIPTION;ALTREP="CID:<FFFF__=0ABBE548DFE235B58f9e8a93d@coffeebean.com>":
 Les Gras sont à l’œuvre depuis 2017. Ils jouent du rock classique\, du roc
 k garage… du rock tout court. D’abord formé en quatuor\, Caractère Gras a 
 mis quelques années à trouver le son qu’il recherchait. Avec le temps\, Gr
 os Den\, auteur-compositeur du groupe\, a vu son inspiration musicale glis
 ser des années 90 vers la période Classic Rock des années 60 et 70. Caract
 ère Gras avait besoin d’un piano.\nLe groupe a alors ralenti certains temp
 os\, modifié des rythmiques et même ajusté le style de quelques chansons. 
 Résultat : un groupe de rock dans sa forme la plus pure — des cordes\, des
  tambours et un piano — et un catalogue de 27 chansons originales francoph
 ones.\n&nbsp\;\nDenis Harvey - Guitare\, voix.Ludovic Dubois - Guitare\, v
 oix.Steve Gingras - Clavier\, voix.Jean-François Desgagnés - Basse.Maxime 
 Gagné - Batterie\, voix.
DTSTART:20250711T233000Z
DTEND:20250712T010000Z
GEO:+47.441021;-70.506462
LOCATION:Place de l'Église
ORGANIZER:
SEQUENCE:1
SUMMARY:Caractère Gras
TRANSP:OPAQUE
URL:https://baiesaintpaulguide.com/component/icagenda/caractere-gras.html?I
 temid=103
END:VEVENT
END:VCALENDAR
