BEGIN:VCALENDAR
VERSION:2.0
PRODID:-//Baie-Saint-Paul Guide//NONSGML kigkonsult.se iCalcreator 2.30.10/
 /
CALSCALE:GREGORIAN
METHOD:PUBLISH
UID:99f321b0-2c30-4f16-a612-739ea29d5299
X-WR-CALNAME:iCagenda
X-WR-CALDESC:Event Management Extension for Joomla!
X-WR-RELCALID:3E26604A-50F4-4449-8B3E-E4F4932D05B5
X-WR-TIMEZONE:America/Toronto
BEGIN:VTIMEZONE
TZID:America/Toronto
BEGIN:STANDARD
TZNAME:EST
DTSTART:20231105T020000
TZOFFSETFROM:-0400
TZOFFSETTO:-0500
RDATE:20241103T020000
RDATE:20251102T020000
END:STANDARD
BEGIN:DAYLIGHT
TZNAME:EDT
DTSTART:20240310T020000
TZOFFSETFROM:-0500
TZOFFSETTO:-0400
RDATE:20250309T020000
END:DAYLIGHT
END:VTIMEZONE
BEGIN:VEVENT
UID:88f805eb-26a3-4f79-a73f-654622a26672
DTSTAMP:20260422T174926Z
CATEGORIES:Conférence
CLASS:PUBLIC
DESCRIPTION;ALTREP="CID:<FFFF__=0ABBE548DFE235B58f9e8a93d@coffeebean.com>":
 Rejoignez-nous pour une rencontre inspirante avec Marie-Thérèse Thévard et
  sa fille Marie\, autrices du livre - Le jardin vivrier - un guide essenti
 el pour réussir son jardin sans épuiser le sol et atteindre l’autosuffisan
 ce alimentaire. Ces deux passionnées d'agroécologie et de permaculture vou
 s dévoileront une approche unique pour jardiner efficacement en climat bor
 éal.
DTSTART:20240616T140000Z
DTEND:20240616T160000Z
GEO:+47.438202;-70.505577
LOCATION:Auberge & Bistro des Balcons
ORGANIZER:
SEQUENCE:1
SUMMARY:Conférence - Le jardin vivrier
TRANSP:OPAQUE
URL:https://baiesaintpaulguide.com/component/icagenda/conference-le-jardin-
 vivrier.html?Itemid=103
END:VEVENT
END:VCALENDAR
