BEGIN:VCALENDAR
VERSION:2.0
PRODID:-//Baie-Saint-Paul Guide//NONSGML kigkonsult.se iCalcreator 2.30.10/
 /
CALSCALE:GREGORIAN
METHOD:PUBLISH
UID:74461e6d-235d-4f3f-a7fe-e19dc8c65faa
X-WR-CALNAME:iCagenda
X-WR-CALDESC:Event Management Extension for Joomla!
X-WR-RELCALID:3E26604A-50F4-4449-8B3E-E4F4932D05B5
X-WR-TIMEZONE:America/Toronto
BEGIN:VTIMEZONE
TZID:America/Toronto
BEGIN:STANDARD
TZNAME:EST
DTSTART:20241103T020000
TZOFFSETFROM:-0400
TZOFFSETTO:-0500
RDATE:20251102T020000
RDATE:20261101T020000
END:STANDARD
BEGIN:DAYLIGHT
TZNAME:EDT
DTSTART:20250309T020000
TZOFFSETFROM:-0500
TZOFFSETTO:-0400
RDATE:20260308T020000
END:DAYLIGHT
END:VTIMEZONE
BEGIN:VEVENT
UID:29a50ec6-b4c7-4f76-8c89-dbe7a6603d8b
DTSTAMP:20260423T031736Z
CATEGORIES:Bistro des Balcons
CLASS:PUBLIC
DESCRIPTION;ALTREP="CID:<FFFF__=0ABBE548DFE235B58f9e8a93d@coffeebean.com>":
 &nbsp\;SPECTACLE présenté par LE FESTIF !&nbsp\;\n&nbsp\;Samedi 19 juillet
  • 19h00&nbsp\;Crachat&nbsp\;Punk-rock à paillettes&nbsp\;GRATUIT\nCrachat
  est un trio punk rock à paillettes de la basse-ville de Québec. Mélangean
 t les influences stoner-psychédélique-surf\, ces princesses à gros bras fo
 nt rayonner des textes féministes et revendicateurs sous des chansons aux 
 couleurs toujours plus rose bonbons.\n&nbsp\;Crachat a remporté le Prix de
 s Balcons lors de la grande finale du Cabaret Festif en mars dernier. Vien
 s comprendre pourquoi en assistant à ce show déjanté&nbsp\;\n&nbsp\;
DTSTART:20250719T230000Z
DTEND:20250720T010000Z
GEO:+47.438202;-70.505577
LOCATION:Bistro des Balcons
ORGANIZER:
SEQUENCE:1
SUMMARY:Crachat au Bistro des Balcons - Le Festif!
TRANSP:OPAQUE
URL:https://baiesaintpaulguide.com/component/icagenda/crachat-au-bistro-des
 -balcons-le-festif.html?Itemid=103
END:VEVENT
END:VCALENDAR
