BEGIN:VCALENDAR
VERSION:2.0
PRODID:-//Baie-Saint-Paul Guide//NONSGML kigkonsult.se iCalcreator 2.30.10/
 /
CALSCALE:GREGORIAN
METHOD:PUBLISH
UID:055db573-8dad-4dc8-949b-9f4edd1d26da
X-WR-CALNAME:iCagenda
X-WR-CALDESC:Event Management Extension for Joomla!
X-WR-RELCALID:3E26604A-50F4-4449-8B3E-E4F4932D05B5
X-WR-TIMEZONE:America/Toronto
BEGIN:VTIMEZONE
TZID:America/Toronto
BEGIN:STANDARD
TZNAME:EST
DTSTART:20241103T020000
TZOFFSETFROM:-0400
TZOFFSETTO:-0500
RDATE:20251102T020000
RDATE:20261101T020000
END:STANDARD
BEGIN:DAYLIGHT
TZNAME:EDT
DTSTART:20250309T020000
TZOFFSETFROM:-0500
TZOFFSETTO:-0400
RDATE:20260308T020000
END:DAYLIGHT
END:VTIMEZONE
BEGIN:VEVENT
UID:e54e2c76-4c44-418f-9765-79431b44b3c2
DTSTAMP:20260423T031821Z
CATEGORIES:Les Dimanches Musicaux
CLASS:PUBLIC
DESCRIPTION;ALTREP="CID:<FFFF__=0ABBE548DFE235B58f9e8a93d@coffeebean.com>":
 Duos vocaux européens à travers les âges – Dimanche 27 juillet 2025\, 11h
 \nRassemblant la soprano Isabelle Anne Messier\, le baryton Nicolas Pellet
 ier et la pianiste Renée Gagnon\, ce concert-spectacle propose des duos ly
 riques qui feront voyager le public de l’époque du Moyen-Âge jusqu’au XXIe
  siècle\, de Dowland\, à Monteverdi\, Purcell\, Rameay\, Bach\, Saint-Saën
 s\, Dvorak\, Weigl\, et d’autres encore. En plus du chant\, a cappella ou 
 accompagné au piano\, la présentation racontera des anecdotes qui entouren
 t chacune des pièces musicales\, de manière imagée et dynamique. Ce specta
 cle\, rempli de découvertes musicales et truffé de petits trésors cachés p
 rovenant de toutes les époques\, rendra les spectateurs impatients de déco
 uvrir chacune de ses pièces grâce aux introductions théâtrales\, amusantes
  mais historiques\, qui les précéderont.\n \nBillets: https://lepointdeven
 te.com/billets/rww250717001
DTSTART:20250727T150000Z
DTEND:20250727T170000Z
GEO:+47.438431;-70.506203
LOCATION:Chapelle de Maison Mère
ORGANIZER:
SEQUENCE:1
SUMMARY:Duos vocaux européens à travers les âges
TRANSP:OPAQUE
URL:https://baiesaintpaulguide.com/component/icagenda/duos-vocaux-europeens
 -a-travers-les-ages.html?Itemid=103
END:VEVENT
END:VCALENDAR
