BEGIN:VCALENDAR
VERSION:2.0
PRODID:-//Baie-Saint-Paul Guide//NONSGML kigkonsult.se iCalcreator 2.30.10/
 /
CALSCALE:GREGORIAN
METHOD:PUBLISH
UID:171a948d-a35d-484d-aa59-e8b96292a1c0
X-WR-CALNAME:iCagenda
X-WR-CALDESC:Event Management Extension for Joomla!
X-WR-RELCALID:3E26604A-50F4-4449-8B3E-E4F4932D05B5
X-WR-TIMEZONE:America/Toronto
BEGIN:VTIMEZONE
TZID:America/Toronto
BEGIN:STANDARD
TZNAME:EST
DTSTART:20241103T020000
TZOFFSETFROM:-0400
TZOFFSETTO:-0500
RDATE:20251102T020000
RDATE:20261101T020000
END:STANDARD
BEGIN:DAYLIGHT
TZNAME:EDT
DTSTART:20250309T020000
TZOFFSETFROM:-0500
TZOFFSETTO:-0400
RDATE:20260308T020000
END:DAYLIGHT
END:VTIMEZONE
BEGIN:VEVENT
UID:e4f59037-c3a3-457c-af76-3135b4c975ff
DTSTAMP:20260423T031658Z
CATEGORIES:Bistro des Balcons
CLASS:PUBLIC
DESCRIPTION;ALTREP="CID:<FFFF__=0ABBE548DFE235B58f9e8a93d@coffeebean.com>":
 La programmation estivale des Balcons est fièrement présentée par Menaud 
 \n Samedi 12 juillet • 20h30 Friendly Frogs Freak Show Funk progressif\n&a
 mp\; PARTY DU 8E ANNIVERSAIRE DE L'AUBERGE   \nFunk progressif batracien é
 nergiquement chargé et prêt à vous dégainer dans un tourbillon infini de s
 onorités colorées soutenue par une section rythmique éclectique qui vous o
 ffre frissons dansants et ambiances propice à mettre à nu votre grenouille
  intérieure !\n Curieux.ses ? Check ça :https://www.youtube.com/watch?v=50
 oUpZYlLwk&amp\;t=2s\n Cet été\, nous sommes ravis de vous offrir un accès 
 hebdomadaire à la culture émergente d’ici avec une saison complète de spec
 tacles à contribution volontaire seulement \n Comment ça marche?VOUS dicte
 z le prix d’entrée de votre billet. Tout l’argent de la billetterie volont
 aire se rend directement aux artistes.
DTSTART:20250713T003000Z
DTEND:20250713T020000Z
GEO:+47.438202;-70.505577
LOCATION:Bistro des Balcons
ORGANIZER:
SEQUENCE:1
SUMMARY:Friendly Frogs Freak Show + 8e anniversaire des Balcons
TRANSP:OPAQUE
URL:https://baiesaintpaulguide.com/component/icagenda/friendly-frogs-freak-
 show-8e-anniversaire-des-balcons.html?Itemid=103
END:VEVENT
END:VCALENDAR
