BEGIN:VCALENDAR
VERSION:2.0
PRODID:-//Baie-Saint-Paul Guide//NONSGML kigkonsult.se iCalcreator 2.30.10/
 /
CALSCALE:GREGORIAN
METHOD:PUBLISH
UID:ac3ffe4b-fb78-4765-9397-3c4c46efa7d6
X-WR-CALNAME:iCagenda
X-WR-CALDESC:Event Management Extension for Joomla!
X-WR-RELCALID:3E26604A-50F4-4449-8B3E-E4F4932D05B5
X-WR-TIMEZONE:America/Toronto
BEGIN:VTIMEZONE
TZID:America/Toronto
BEGIN:STANDARD
TZNAME:EST
DTSTART:20231105T020000
TZOFFSETFROM:-0400
TZOFFSETTO:-0500
RDATE:20241103T020000
RDATE:20251102T020000
END:STANDARD
BEGIN:DAYLIGHT
TZNAME:EDT
DTSTART:20240310T020000
TZOFFSETFROM:-0500
TZOFFSETTO:-0400
RDATE:20250309T020000
END:DAYLIGHT
END:VTIMEZONE
BEGIN:VEVENT
UID:188e1fee-2a09-4754-9436-023375b02f85
DTSTAMP:20260422T173755Z
CATEGORIES:Musée d'art contemporain de Baie-Saint-Paul
CLASS:PUBLIC
DESCRIPTION;ALTREP="CID:<FFFF__=0ABBE548DFE235B58f9e8a93d@coffeebean.com>":
 Joignez-vous à nous afin de célébrer l'inauguration de la Placette Desjard
 ins\, la nouvelle ruelle verte et artistique du Musée d'art contemporain d
 e Baie-Saint-Paul.\nL'ambiance de la soirée sera assurée par le DJ Milimét
 rik et on vous réserve une belle surprise pour vous sustenter !&nbsp\;\nRe
 stez à l’affût des prochaines annonces d’ici là afin de connaitre nos part
 enaires !\n***\nÀ propos de la Placette Desjardins\nLa Placette Desjardins
  est un projet du Musée d’art contemporain de Baie-Saint-Paul qui vient co
 nsolider son offre en le faisant sortir de ses murs. En effet\, dans un so
 uci de rendre l’art accessible et afin de rejoindre une plus large clientè
 le\, le Musée utilisera ce nouvel espace extérieur afin d’y faire rayonner
  les œuvres d’artistes de sa collection permanente et d’y offrir des ateli
 ers de création pour petits et grands.
DTSTART:20240619T210000Z
DTEND:20240619T230000Z
GEO:+47.440292;-70.505592
LOCATION:Musée d'art contemporain de Baie-Saint-Paul
ORGANIZER:
SEQUENCE:1
SUMMARY:Inauguration de la Placette Desjardins
TRANSP:OPAQUE
URL:https://baiesaintpaulguide.com/component/icagenda/inauguration-de-la-pl
 acette-desjardins.html?Itemid=103
END:VEVENT
END:VCALENDAR
