BEGIN:VCALENDAR
VERSION:2.0
PRODID:-//Baie-Saint-Paul Guide//NONSGML kigkonsult.se iCalcreator 2.30.10/
 /
CALSCALE:GREGORIAN
METHOD:PUBLISH
UID:a8e4a301-8e83-43fa-9adc-6b053931e2c1
X-WR-CALNAME:iCagenda
X-WR-CALDESC:Event Management Extension for Joomla!
X-WR-RELCALID:3E26604A-50F4-4449-8B3E-E4F4932D05B5
X-WR-TIMEZONE:America/Toronto
BEGIN:VTIMEZONE
TZID:America/Toronto
BEGIN:STANDARD
TZNAME:EST
DTSTART:20241103T020000
TZOFFSETFROM:-0400
TZOFFSETTO:-0500
RDATE:20251102T020000
RDATE:20261101T020000
END:STANDARD
BEGIN:DAYLIGHT
TZNAME:EDT
DTSTART:20250309T020000
TZOFFSETFROM:-0500
TZOFFSETTO:-0400
RDATE:20260308T020000
END:DAYLIGHT
END:VTIMEZONE
BEGIN:VEVENT
UID:48719176-9adc-4709-b792-cb0c91e4d62e
DTSTAMP:20260423T031536Z
CATEGORIES:Le Potager
CLASS:PUBLIC
DESCRIPTION;ALTREP="CID:<FFFF__=0ABBE548DFE235B58f9e8a93d@coffeebean.com>":
  Inauguration d'un nouvel espace – Ce dimanche au Potager \nCes dernières 
 semaines\, un grand chantier de transformation a pris vie dans la cour de 
 Maison-mère : plus de 35 arbres fruitiers et à noix\, 250 arbustes de vari
 étés diverses\, et des centaines de vivaces comestibles ont été plantés po
 ur intégrer une Forêt nourricière et un Mini-verger communautaire au coeur
  du Potager.\nCe dimanche\, nous vous invitons à découvrir le fruit de ce 
 travail collectif\, lors de l’inauguration officielle de ce nouvel espace.
  Pour l’occasion\, nous mettrons en terre un arbre commémoratif\, symbole 
 vivant de notre engagement envers la solidarité alimentaire\, l’éducation 
 à l’environnement et la biodiversité urbaine.\nVenez célébrer avec nous ce
 tte étape importante pour Le Potager et pour la communauté! 
DTSTART:20250713T140000Z
DTEND:20250713T150000Z
GEO:+47.438431;-70.506203
LOCATION:Le Potager
ORGANIZER:
SEQUENCE:1
SUMMARY:Inauguration - Forêt nourricière & Mini verger
TRANSP:OPAQUE
URL:https://baiesaintpaulguide.com/component/icagenda/inauguration-foret-no
 urriciere-mini-verger.html?Itemid=103
END:VEVENT
END:VCALENDAR
