BEGIN:VCALENDAR
VERSION:2.0
PRODID:-//Baie-Saint-Paul Guide//NONSGML kigkonsult.se iCalcreator 2.30.10/
 /
CALSCALE:GREGORIAN
METHOD:PUBLISH
UID:b37a36aa-2d5b-41e6-9f5a-a28240fd2cdc
X-WR-CALNAME:iCagenda
X-WR-CALDESC:Event Management Extension for Joomla!
X-WR-RELCALID:3E26604A-50F4-4449-8B3E-E4F4932D05B5
X-WR-TIMEZONE:America/Toronto
BEGIN:VTIMEZONE
TZID:America/Toronto
BEGIN:STANDARD
TZNAME:EST
DTSTART:20241103T020000
TZOFFSETFROM:-0400
TZOFFSETTO:-0500
RDATE:20251102T020000
RDATE:20261101T020000
END:STANDARD
BEGIN:DAYLIGHT
TZNAME:EDT
DTSTART:20250309T020000
TZOFFSETFROM:-0500
TZOFFSETTO:-0400
RDATE:20260308T020000
END:DAYLIGHT
END:VTIMEZONE
BEGIN:VEVENT
UID:0cc09db8-a7d7-4cef-b7a0-4344ff5b6579
DTSTAMP:20260423T031352Z
CATEGORIES:Animation Baie-Saint-Paul
CLASS:PUBLIC
DESCRIPTION;ALTREP="CID:<FFFF__=0ABBE548DFE235B58f9e8a93d@coffeebean.com>":
 C'est à travers des histoires absurdes et un humour cinglant que l'irrévér
 encieuse auteure-compositrice-interprète La Charpie raconte et critique jo
 yeusement le monde\, en s'accompagnant au piano\, à l'accordéon et au banj
 olele.\nDe formation classique\, elle libère sur scène sa créativité\, nou
 rrie de la musique des siècles précédents\, des grands classiques de la ch
 anson à texte francophone sur deux continents et de la “Ô combien inspiran
 te” connerie humaine.
DTSTART:20250726T233000Z
DTEND:20250727T010000Z
GEO:+47.441021;-70.506462
LOCATION:Place de l'Église
ORGANIZER:
SEQUENCE:1
SUMMARY:La Charpie
TRANSP:OPAQUE
URL:https://baiesaintpaulguide.com/component/icagenda/la-charpie.html?Itemi
 d=103
END:VEVENT
END:VCALENDAR
