BEGIN:VCALENDAR
VERSION:2.0
PRODID:-//Baie-Saint-Paul Guide//NONSGML kigkonsult.se iCalcreator 2.30.10/
 /
CALSCALE:GREGORIAN
METHOD:PUBLISH
UID:32686f9f-1ae7-4937-986e-e17cd7ca4813
X-WR-CALNAME:iCagenda
X-WR-CALDESC:Event Management Extension for Joomla!
X-WR-RELCALID:3E26604A-50F4-4449-8B3E-E4F4932D05B5
X-WR-TIMEZONE:America/Toronto
BEGIN:VTIMEZONE
TZID:America/Toronto
BEGIN:STANDARD
TZNAME:EST
DTSTART:20241103T020000
TZOFFSETFROM:-0400
TZOFFSETTO:-0500
RDATE:20251102T020000
RDATE:20261101T020000
END:STANDARD
BEGIN:DAYLIGHT
TZNAME:EDT
DTSTART:20250309T020000
TZOFFSETFROM:-0500
TZOFFSETTO:-0400
RDATE:20260308T020000
END:DAYLIGHT
END:VTIMEZONE
BEGIN:VEVENT
UID:dbb98c57-1127-46e9-8719-f7f349a08273
DTSTAMP:20260423T031929Z
CATEGORIES:Bistro des Balcons
CLASS:PUBLIC
DESCRIPTION;ALTREP="CID:<FFFF__=0ABBE548DFE235B58f9e8a93d@coffeebean.com>":
  SPECTACLE présenté par LE FESTIF ! \n Jeudi 17 juillet • 19h00 La Patente
  Folk rock acadien GRATUIT\nVous les avez peut-être croisés l’an dernier s
 ur notre belle terrasse lors d’un show déjanté  On est vraiment contents d
 e les accueillir à nouveau !\nLa Patente\, c’est un party qui dure depuis 
 bientôt 5 ans sans jamais s’essouffler. La formation revient avec Le cirqu
 e des mal-aimés\, un album de folk-rock sali au brin de scie\, avec un par
 fum de fond de tonneau. Surgi des ténèbres du Nouveau-Brunswick pour embra
 ser les planches\, le quatuor présente un cocktail de punk-rock et de coun
 try-folk cru et tranchant avec un splash contemporain tout à fait unique!
 \nCréé au printemps 2020\, le groupe poursuit son ascension sur la scène f
 rancophone grâce à des tournées intenses partout au Canada\, en Europe et 
 aux États-Unis.\n https://lefestif.ca/artistes/la-patente
DTSTART:20250717T230000Z
DTEND:20250718T010000Z
GEO:+47.438202;-70.505577
LOCATION:Bistro des Balcons
ORGANIZER:
SEQUENCE:1
SUMMARY:La Patente au Bistro des Balcons Le Festif!
TRANSP:OPAQUE
URL:https://baiesaintpaulguide.com/component/icagenda/la-patente-au-bistro-
 des-balcons-le-festif.html?Itemid=103
END:VEVENT
END:VCALENDAR
