BEGIN:VCALENDAR
VERSION:2.0
PRODID:-//Baie-Saint-Paul Guide//NONSGML kigkonsult.se iCalcreator 2.30.10/
 /
CALSCALE:GREGORIAN
METHOD:PUBLISH
UID:5ae48696-8574-40dd-90e6-e5c8b278537a
X-WR-CALNAME:iCagenda
X-WR-CALDESC:Event Management Extension for Joomla!
X-WR-RELCALID:3E26604A-50F4-4449-8B3E-E4F4932D05B5
X-WR-TIMEZONE:America/Toronto
BEGIN:VTIMEZONE
TZID:America/Toronto
BEGIN:STANDARD
TZNAME:EST
DTSTART:20241103T020000
TZOFFSETFROM:-0400
TZOFFSETTO:-0500
RDATE:20251102T020000
RDATE:20261101T020000
END:STANDARD
BEGIN:DAYLIGHT
TZNAME:EDT
DTSTART:20250309T020000
TZOFFSETFROM:-0500
TZOFFSETTO:-0400
RDATE:20260308T020000
END:DAYLIGHT
END:VTIMEZONE
BEGIN:VEVENT
UID:d3e7565a-63b2-4262-b1d5-df06db99cd2b
DTSTAMP:20260423T031658Z
CATEGORIES:Le Festif!
CLASS:PUBLIC
DESCRIPTION;ALTREP="CID:<FFFF__=0ABBE548DFE235B58f9e8a93d@coffeebean.com>":
 Du 17 au 20 juillet rejoins-nous dans la magnifique ville de Baie-Saint-Pa
 ul !Billets en vente dès 10 avril à midi  lefestif.ca/billetterie
DTSTART:20250717T190000Z
DTEND:20250720T193000Z
GEO:00;0
LOCATION:Baie-Saint-Paul
ORGANIZER:
SEQUENCE:1
SUMMARY:Le Festif! de Baie-Saint-Paul : 16e édition
TRANSP:OPAQUE
URL:https://baiesaintpaulguide.com/component/icagenda/le-festif-de-baie-sai
 nt-paul-16e-edition.html?Itemid=103
END:VEVENT
END:VCALENDAR
