BEGIN:VCALENDAR
VERSION:2.0
PRODID:-//Baie-Saint-Paul Guide//NONSGML kigkonsult.se iCalcreator 2.30.10/
 /
CALSCALE:GREGORIAN
METHOD:PUBLISH
UID:2ad3aa78-c50b-4917-8c30-664f2fb44a5b
X-WR-CALNAME:iCagenda
X-WR-CALDESC:Event Management Extension for Joomla!
X-WR-RELCALID:3E26604A-50F4-4449-8B3E-E4F4932D05B5
X-WR-TIMEZONE:America/Toronto
BEGIN:VTIMEZONE
TZID:America/Toronto
BEGIN:STANDARD
TZNAME:EST
DTSTART:20241103T020000
TZOFFSETFROM:-0400
TZOFFSETTO:-0500
RDATE:20251102T020000
RDATE:20261101T020000
END:STANDARD
BEGIN:DAYLIGHT
TZNAME:EDT
DTSTART:20250309T020000
TZOFFSETFROM:-0500
TZOFFSETTO:-0400
RDATE:20260308T020000
END:DAYLIGHT
END:VTIMEZONE
BEGIN:VEVENT
UID:d9e78aeb-2a1b-44d6-b45d-5a2f9fbd80b3
DTSTAMP:20260423T031858Z
CATEGORIES:Ruelle La Rosรฉe de la Maison Otis
CLASS:PUBLIC
DESCRIPTION;ALTREP="CID:<FFFF__=0ABBE548DFE235B58f9e8a93d@coffeebean.com>":
 ย ๐๐๐ญฬ ๐ฌ๐ญ๐ฅฬโฆ ๐ญ ๐ฏ๐ ๐ฅฎ๐ข, ๐ฅ ๐ฉซ๐ฌ๐ฌข๐จง ๐๐ง ๐ฉซ๐จ๐ขญ๐ซ ๐ฉฅ๐ข๐ง๐ฆ๐งญ.\nEntre lโenvie de dรฉcrocher\, l
 es responsabilitรฉs qui ne prennent pas de vacances\, les attentes familial
 es et professionnellesโฆ pas toujours facile de trouver son รฉquilibre sans 
 culpabilitรฉ !\nย ๐ ๐๐ ๐ฏจ๐ฎฌ ๐ขง๐ฏข๐ญ ๐ ๐ฎง ๐๐ ๐๐ฌจ๐ฎฌ ๐ฅ ๐ฌจ๐ฅ๐ขฅ\, dans la ruelle La Rosรฉe de 
 la Maison Otis\, pour une ๐จ๐ง๐๐ซ๐ง๐๐ฏ๐ ๐ง๐ง-๐๐ฏ ๐๐ง ๐ฎ๐ฒ, ๐ฉฌ๐ฒ๐กจ๐๐ฎ๐๐ญซ๐ข๐๐๐ ๐๐๐๐et fondatri
 ce du projet De moi ร  moi.\nย Son sujet?๐จ๐ฆฆ๐ง๐ญ๐ฬ๐ฆจ๐ซ๐ญ๐ขฌ๐ซ ๐ฅ ๐ฎ๐ฅฉ๐๐ขฅ๐ขญ๐ !\nEt si on sโ
 autorisait ร  faire un peu moins\, ร  revoir nos attentes... pour mieux crรฉe
 r de la valeur\, pour soi\, pour nos projets\, et pour ce qui nous tient ร 
  cลur?\nย ย ๐ฅ ๐๐ซ ๐จ๐ง๐ ๐ฉซ๐ง๐ซ๐๐ฅ๐ฉ๐๐ซจ ๐ง๐ฌ๐ฆ๐ฅ ๐ ๐ฅ ๐ญจ๐ฎญ๐๐งจ๐ฎฏ๐ฅ๐ฅ ๐ญ๐ซซ๐ฌ๐ฌ ๐ ๐ฅ ๐๐ขฌ๐จง ๐ญ๐ขฌ\, ๐ฅ ๐ฎ๐ฅ๐ฅ ๐ ๐จ๐ฌฬ
 ๐ En solo ou avec des amis\, venez rencontrer la communautรฉ!ย \nย Arrivez tรด
 t! Les 10 premiรจres personnes sur place recevront une consommation gratuit
 e !\nย Le lundi 14 juillet\, de 16h ร  18hย Ruelle La Rosรฉe โ Maison Otis\, B
 aie-Saint-Paul Initiative propulsรฉe par Microcrรฉdit Charlevoix et soutenue
  par la SADC et Desjardins.
DTSTART:20250714T200000Z
DTEND:20250714T220000Z
GEO:+47.442474;-70.506851
LOCATION:Maison Otis
ORGANIZER:
SEQUENCE:1
SUMMARY:Le LIEN prend lโapรฉro sous le soleilโฆsans culpabilitรฉ
TRANSP:OPAQUE
URL:https://baiesaintpaulguide.com/component/icagenda/le-lien-prend-lapero-
 sous-le-soleil-sans-culpabilite.html?Itemid=103
END:VEVENT
END:VCALENDAR
