BEGIN:VCALENDAR
VERSION:2.0
PRODID:-//Baie-Saint-Paul Guide//NONSGML kigkonsult.se iCalcreator 2.30.10/
 /
CALSCALE:GREGORIAN
METHOD:PUBLISH
UID:e129cbe7-8477-44ca-8be2-a8201263e154
X-WR-CALNAME:iCagenda
X-WR-CALDESC:Event Management Extension for Joomla!
X-WR-RELCALID:3E26604A-50F4-4449-8B3E-E4F4932D05B5
X-WR-TIMEZONE:America/Toronto
BEGIN:VTIMEZONE
TZID:America/Toronto
BEGIN:STANDARD
TZNAME:EST
DTSTART:20241103T020000
TZOFFSETFROM:-0400
TZOFFSETTO:-0500
RDATE:20251102T020000
RDATE:20261101T020000
END:STANDARD
BEGIN:DAYLIGHT
TZNAME:EDT
DTSTART:20250309T020000
TZOFFSETFROM:-0500
TZOFFSETTO:-0400
RDATE:20260308T020000
END:DAYLIGHT
END:VTIMEZONE
BEGIN:VEVENT
UID:93d0f0c6-cb51-4e5b-ba50-c22f5b76068d
DTSTAMP:20260423T031403Z
CATEGORIES:Animation Baie-Saint-Paul
CLASS:PUBLIC
DESCRIPTION;ALTREP="CID:<FFFF__=0ABBE548DFE235B58f9e8a93d@coffeebean.com>":
 Les Filles du Roy font vibrer les villages de la Terre Promise en faisant 
 chanter et danser les amateurs de musique traditionnelle. Les six membres 
 du groupe offrent un style à la fois dynamique et intense\, revisitant not
 re folklore avec des arrangements de reels et de chants qui décoiffent aut
 ant qu’ils font sourire.
DTSTART:20250712T233000Z
DTEND:20250713T010000Z
GEO:+47.441021;-70.506462
LOCATION:Place de l'Église
ORGANIZER:
SEQUENCE:1
SUMMARY:Les Filles du Roy
TRANSP:OPAQUE
URL:https://baiesaintpaulguide.com/component/icagenda/les-filles-du-roy.htm
 l?Itemid=103
END:VEVENT
END:VCALENDAR
