BEGIN:VCALENDAR
VERSION:2.0
PRODID:-//Baie-Saint-Paul Guide//NONSGML kigkonsult.se iCalcreator 2.30.10/
 /
CALSCALE:GREGORIAN
METHOD:PUBLISH
UID:fdcb522a-714a-4e4c-8140-d107a94b0d7f
X-WR-CALNAME:iCagenda
X-WR-CALDESC:Event Management Extension for Joomla!
X-WR-RELCALID:3E26604A-50F4-4449-8B3E-E4F4932D05B5
X-WR-TIMEZONE:America/Toronto
BEGIN:VTIMEZONE
TZID:America/Toronto
BEGIN:STANDARD
TZNAME:EST
DTSTART:20241103T020000
TZOFFSETFROM:-0400
TZOFFSETTO:-0500
RDATE:20251102T020000
RDATE:20261101T020000
END:STANDARD
BEGIN:DAYLIGHT
TZNAME:EDT
DTSTART:20250309T020000
TZOFFSETFROM:-0500
TZOFFSETTO:-0400
RDATE:20260308T020000
END:DAYLIGHT
END:VTIMEZONE
BEGIN:VEVENT
UID:5a76df18-935f-4257-a698-7649a41ff095
DTSTAMP:20260423T031526Z
CATEGORIES:Bistro des Balcons
CLASS:PUBLIC
DESCRIPTION;ALTREP="CID:<FFFF__=0ABBE548DFE235B58f9e8a93d@coffeebean.com>":
 Les classiques jeudis d'été sont fièrement présentés par À Chacun son Pain
 &nbsp\;\nOn vous accueille chaque semaine pour des 5 à 7 avec toujours de 
 nouveaux DJ invités pour varier les plaisirs &amp\; les styles !\nCette se
 maine aux platines : BenDude&nbsp\;\n&nbsp\;Tous les jeudis&nbsp\;GRATUIT&
 nbsp\;Bienvenue à toustes !\nSur la terrasse s'il fait beau - à l'intérieu
 r s'il mouille&nbsp\;
DTSTART:20250724T210000Z
DTEND:20250724T230000Z
GEO:+47.438202;-70.505577
LOCATION:Bistro des Balcons
ORGANIZER:
SEQUENCE:1
SUMMARY:Les Jeudis 5 à 7 - BenDude
TRANSP:OPAQUE
URL:https://baiesaintpaulguide.com/component/icagenda/les-jeudis-5-a-7-bend
 ude.html?Itemid=103
END:VEVENT
END:VCALENDAR
