BEGIN:VCALENDAR
VERSION:2.0
PRODID:-//Baie-Saint-Paul Guide//NONSGML kigkonsult.se iCalcreator 2.30.10/
 /
CALSCALE:GREGORIAN
METHOD:PUBLISH
UID:9d6fd193-60de-4350-a3eb-c2dfc57201e6
X-WR-CALNAME:iCagenda
X-WR-CALDESC:Event Management Extension for Joomla!
X-WR-RELCALID:3E26604A-50F4-4449-8B3E-E4F4932D05B5
X-WR-TIMEZONE:America/Toronto
BEGIN:VTIMEZONE
TZID:America/Toronto
BEGIN:STANDARD
TZNAME:EST
DTSTART:20241103T020000
TZOFFSETFROM:-0400
TZOFFSETTO:-0500
RDATE:20251102T020000
RDATE:20261101T020000
END:STANDARD
BEGIN:DAYLIGHT
TZNAME:EDT
DTSTART:20250309T020000
TZOFFSETFROM:-0500
TZOFFSETTO:-0400
RDATE:20260308T020000
END:DAYLIGHT
END:VTIMEZONE
BEGIN:VEVENT
UID:d7b2fdc4-d3b5-420c-9545-d8a8b16b13fd
DTSTAMP:20260423T014131Z
CATEGORIES:Animation Baie-Saint-Paul
CLASS:PUBLIC
DESCRIPTION;ALTREP="CID:<FFFF__=0ABBE548DFE235B58f9e8a93d@coffeebean.com>":
 Marc André Belliveau et Les Spaires Ribs viendront brasser la place publiq
 ue avec leur PLASTIC REGGAE. C'est avec leur musique groovy et dansante qu
 e ces Charlevoisiens de coeur et de souche vous attendent dans le détour.&
 nbsp\;\nSoyez prêts!
DTSTART:20250808T233000Z
DTEND:20250809T010000Z
GEO:+47.441021;-70.506462
LOCATION:Place de l'Église
ORGANIZER:
SEQUENCE:1
SUMMARY:Marc André Belliveau et les Spare ribs
TRANSP:OPAQUE
URL:https://baiesaintpaulguide.com/component/icagenda/marc-andre-belliveau-
 et-les-spare-ribs.html?Itemid=103
END:VEVENT
END:VCALENDAR
