BEGIN:VCALENDAR
VERSION:2.0
PRODID:-//Baie-Saint-Paul Guide//NONSGML kigkonsult.se iCalcreator 2.30.10/
 /
CALSCALE:GREGORIAN
METHOD:PUBLISH
UID:5bed4580-9bf9-456d-8cfc-c80efef66d0a
X-WR-CALNAME:iCagenda
X-WR-CALDESC:Event Management Extension for Joomla!
X-WR-RELCALID:3E26604A-50F4-4449-8B3E-E4F4932D05B5
X-WR-TIMEZONE:America/Toronto
BEGIN:VTIMEZONE
TZID:America/Toronto
BEGIN:STANDARD
TZNAME:EST
DTSTART:20241103T020000
TZOFFSETFROM:-0400
TZOFFSETTO:-0500
RDATE:20251102T020000
RDATE:20261101T020000
END:STANDARD
BEGIN:DAYLIGHT
TZNAME:EDT
DTSTART:20250309T020000
TZOFFSETFROM:-0500
TZOFFSETTO:-0400
RDATE:20260308T020000
END:DAYLIGHT
END:VTIMEZONE
BEGIN:VEVENT
UID:f51a4036-e92e-4287-8e39-75e853a8cd01
DTSTAMP:20260423T014224Z
CATEGORIES:Marché Public
CLASS:PUBLIC
DESCRIPTION;ALTREP="CID:<FFFF__=0ABBE548DFE235B58f9e8a93d@coffeebean.com>":
 Situé devant l’Infirmerie de Maison Mère au 63\, rue Ambroise-Fafard\, il 
 réunit de nombreux producteurs et artisans qui vous accueillent dans un ma
 rché public authentiquement charlevoisien.\nC’est toute la population qui 
 est invitée à s’y rendre pour faire ses emplettes de produits frais\, tout
  en découvrant les artisans de la région.
DTSTART:20250831T140000Z
DTEND:20250831T190000Z
GEO:+47.438431;-70.506203
LOCATION:Maison Mère\, baie-saint-paul
ORGANIZER:
SEQUENCE:1
SUMMARY:Marché Public de Baie-St-Paul
TRANSP:OPAQUE
URL:https://baiesaintpaulguide.com/component/icagenda/marche-public-de-baie
 -st-paul-3/2025-08-31-10-00.html?Itemid=103
END:VEVENT
END:VCALENDAR
