BEGIN:VCALENDAR
VERSION:2.0
PRODID:-//Baie-Saint-Paul Guide//NONSGML kigkonsult.se iCalcreator 2.30.10/
 /
CALSCALE:GREGORIAN
METHOD:PUBLISH
UID:ca7b6c6e-44b0-42d3-b5d0-ae864a6e0bf2
X-WR-CALNAME:iCagenda
X-WR-CALDESC:Event Management Extension for Joomla!
X-WR-RELCALID:3E26604A-50F4-4449-8B3E-E4F4932D05B5
X-WR-TIMEZONE:America/Toronto
BEGIN:VTIMEZONE
TZID:America/Toronto
BEGIN:STANDARD
TZNAME:EST
DTSTART:20231105T020000
TZOFFSETFROM:-0400
TZOFFSETTO:-0500
RDATE:20241103T020000
RDATE:20251102T020000
END:STANDARD
BEGIN:DAYLIGHT
TZNAME:EDT
DTSTART:20240310T020000
TZOFFSETFROM:-0500
TZOFFSETTO:-0400
RDATE:20250309T020000
END:DAYLIGHT
END:VTIMEZONE
BEGIN:VEVENT
UID:e7c6e48a-73f2-4caa-9985-4e42d0aabc41
DTSTAMP:20260425T233315Z
CATEGORIES:Le Festif!
CLASS:PUBLIC
DESCRIPTION;ALTREP="CID:<FFFF__=0ABBE548DFE235B58f9e8a93d@coffeebean.com>":
 Marie-Jo Thério se produira lors du Festif! de Baie-Saint-Paul à la Scène 
 Loto-Québec. Les billets peuvent être achetés ici : lepointdevente.com/bil
 lets/edition2024. Née le 3 juillet 1965 à Shediac\, Nouveau-Brunswick\, Ma
 rie-Jo est une actrice et musicienne canadienne réputée\, particulièrement
  connue pour son rôle dans le film Full Blast (1999)\, qui lui a valu le p
 rix Jutra de la meilleure actrice de soutien en 2001.\nAprès avoir déménag
 é à Montréal à l'âge de 17 ans\, elle a poursuivi une carrière en musique 
 et en théâtre. Elle a joué dans la comédie musicale Nelligan de Michel Tre
 mblay en 1990 et a sorti son premier album\, Comme de la musique\, en 1995
 . En 2006\, son album Les matins habitables a remporté le prix Félix de l'
 album folk de l'année. Sa passion pour la musique\, enracinée dès son plus
  jeune âge\, se reflète dans chacune de ses performances. Ne manquez pas l
 'occasion de voir cette artiste talentueuse et polyvalente en live au Fest
 if!
DTSTART:20240718T210000Z
DTEND:20240718T221500Z
GEO:+47.441563;-70.502731
LOCATION:Scène Loto-Québec
ORGANIZER:
SEQUENCE:1
SUMMARY:Marie-Jo Thério - Le Festif!
TRANSP:OPAQUE
URL:https://baiesaintpaulguide.com/component/icagenda/marie-jo-therio-le-fe
 stif.html?Itemid=103
END:VEVENT
END:VCALENDAR
