BEGIN:VCALENDAR
VERSION:2.0
PRODID:-//Baie-Saint-Paul Guide//NONSGML kigkonsult.se iCalcreator 2.30.10/
 /
CALSCALE:GREGORIAN
METHOD:PUBLISH
UID:070c46ac-657d-4cb6-a884-9490cf07f6c8
X-WR-CALNAME:iCagenda
X-WR-CALDESC:Event Management Extension for Joomla!
X-WR-RELCALID:3E26604A-50F4-4449-8B3E-E4F4932D05B5
X-WR-TIMEZONE:America/Toronto
BEGIN:VTIMEZONE
TZID:America/Toronto
BEGIN:STANDARD
TZNAME:EST
DTSTART:20241103T020000
TZOFFSETFROM:-0400
TZOFFSETTO:-0500
RDATE:20251102T020000
RDATE:20261101T020000
END:STANDARD
BEGIN:DAYLIGHT
TZNAME:EDT
DTSTART:20250309T020000
TZOFFSETFROM:-0500
TZOFFSETTO:-0400
RDATE:20260308T020000
END:DAYLIGHT
END:VTIMEZONE
BEGIN:VEVENT
UID:3fedee26-be0c-4c0e-b9df-258bc022a112
DTSTAMP:20260423T031558Z
CATEGORIES:Bistro des Balcons
CLASS:PUBLIC
DESCRIPTION;ALTREP="CID:<FFFF__=0ABBE548DFE235B58f9e8a93d@coffeebean.com>":
 La programmation estivale des Balcons est fièrement présentée par Menaud&n
 bsp\;\n&nbsp\;Vendredi 25 juillet • 20h30&nbsp\;Môdiverra&nbsp\;Trad Métal
 \n&nbsp\;Attachez vos tuques\, on vous propose une expérience inédite !\nL
 e groupe MôdiVerrâ vous convie à une expérience musicale unique où la trad
 ition rencontre l'audace. Avec une fusion inédite entre la musique traditi
 onnelle et les influences vibrantes d’Iron Maiden et de Black Sabbath\, no
 tre spectacle promet une ambiance originale\, festive et dynamique !\nMôdi
 Verrâ rend hommage aux héros connus et méconnus de la Nouvelle-France et d
 u Canada français à travers une musique mélodique\, festive et rebelle. In
 spirées par ces figures emblématiques\, nos compositions captivent par leu
 rs récits épiques et leurs aventures audacieuses\, résonnant avec l'esprit
  intrépide des explorateurs\, des coureurs des bois et des premières natio
 ns. En plus de l’univers de la Nouvelle France\, le matériel en cours de d
 éveloppement plongera dans l'univers mythique des Vikings et autres explor
 ateurs depuis le Ve siècle et au-delà.\nPlongez dans un spectacle électris
 ant où la musique dynamique de MôdiVerrâ fusionne les reels\, les gigues\,
  les chansons à répondre\, les compositions historiques et la poésie d’aut
 eurs-compositeurs tel Gilles Vigneault.\nCe voyage palpitant vous emmène à
  travers les explorations de Cartier et de Champlain\, l'ère du régime sei
 gneurial\, les aventures des coureurs des bois\, les rencontres avec les P
 remières Nations et l’exploration du grand nord\, le tout incarné par les 
 personnages légendaires du Diable violoneux\, le Coureur des bois\, le Bûc
 heron et le Militaire anglais.\n&nbsp\;:&nbsp\;https://www.youtube.com/wat
 ch?v=XEsD0PKyK3s&amp\;t=4s\n\n&nbsp\;Cet été\, nous sommes ravis de vous o
 ffrir un accès hebdomadaire à la culture émergente d’ici avec une saison c
 omplète de spectacles à contribution volontaire seulement&nbsp\;\n&nbsp\;C
 omment ça marche?VOUS dictez le prix d’entrée de votre billet.&nbsp\;Tout 
 l’argent de la billetterie volontaire se rend directement aux artistes.&nb
 sp\;
DTSTART:20250726T003000Z
DTEND:20250726T020000Z
GEO:+47.438202;-70.505577
LOCATION:Bistro des Balcons
ORGANIZER:
SEQUENCE:1
SUMMARY:MôdiVerrâ au Bistro des Balcons
TRANSP:OPAQUE
URL:https://baiesaintpaulguide.com/component/icagenda/modiverra-au-bistro-d
 es-balcons.html?Itemid=103
END:VEVENT
END:VCALENDAR
