BEGIN:VCALENDAR
VERSION:2.0
PRODID:-//Baie-Saint-Paul Guide//NONSGML kigkonsult.se iCalcreator 2.30.10/
 /
CALSCALE:GREGORIAN
METHOD:PUBLISH
UID:1da9140d-7d21-4254-903e-fd202ca7cb95
X-WR-CALNAME:iCagenda
X-WR-CALDESC:Event Management Extension for Joomla!
X-WR-RELCALID:3E26604A-50F4-4449-8B3E-E4F4932D05B5
X-WR-TIMEZONE:America/Toronto
BEGIN:VTIMEZONE
TZID:America/Toronto
BEGIN:STANDARD
TZNAME:EST
DTSTART:20241103T020000
TZOFFSETFROM:-0400
TZOFFSETTO:-0500
RDATE:20251102T020000
RDATE:20261101T020000
END:STANDARD
BEGIN:DAYLIGHT
TZNAME:EDT
DTSTART:20250309T020000
TZOFFSETFROM:-0500
TZOFFSETTO:-0400
RDATE:20260308T020000
END:DAYLIGHT
END:VTIMEZONE
BEGIN:VEVENT
UID:6bf34e83-fa05-40b0-95da-ec3670d06c6e
DTSTAMP:20260423T031411Z
CATEGORIES:Le Festif!
CLASS:PUBLIC
DESCRIPTION;ALTREP="CID:<FFFF__=0ABBE548DFE235B58f9e8a93d@coffeebean.com>":
 Viens profiter du Parvis ICI Musique une journée avant le début du festiva
 l \n17h - Musique d'ambiance18h - CYR19h15 - L'Effet20h30 - Riri &amp\; Pa
 ncho22h - Engelwood23h30 - Hologramme\nBouffe\, boisson et musique jusqu'a
 u close à 2h
DTSTART:20250716T210000Z
DTEND:20250717T060000Z
GEO:+47.439861;-70.506615
LOCATION:
ORGANIZER:
SEQUENCE:1
SUMMARY:Ouverture du Parvis du Festif!
TRANSP:OPAQUE
URL:https://baiesaintpaulguide.com/component/icagenda/ouverture-du-parvis-d
 u-festif.html?Itemid=103
END:VEVENT
END:VCALENDAR
