BEGIN:VCALENDAR
VERSION:2.0
PRODID:-//Baie-Saint-Paul Guide//NONSGML kigkonsult.se iCalcreator 2.30.10/
 /
CALSCALE:GREGORIAN
METHOD:PUBLISH
UID:f95a2c8c-1682-4b2d-b2fb-2cca361c0a62
X-WR-CALNAME:iCagenda
X-WR-CALDESC:Event Management Extension for Joomla!
X-WR-RELCALID:3E26604A-50F4-4449-8B3E-E4F4932D05B5
X-WR-TIMEZONE:America/Toronto
BEGIN:VTIMEZONE
TZID:America/Toronto
BEGIN:STANDARD
TZNAME:EST
DTSTART:20231105T020000
TZOFFSETFROM:-0400
TZOFFSETTO:-0500
RDATE:20241103T020000
RDATE:20251102T020000
END:STANDARD
BEGIN:DAYLIGHT
TZNAME:EDT
DTSTART:20240310T020000
TZOFFSETFROM:-0500
TZOFFSETTO:-0400
RDATE:20250309T020000
END:DAYLIGHT
END:VTIMEZONE
BEGIN:VEVENT
UID:20c30569-93cc-4552-a564-6b2fefb9406a
DTSTAMP:20260422T133021Z
CATEGORIES:Fête
CLASS:PUBLIC
DESCRIPTION;ALTREP="CID:<FFFF__=0ABBE548DFE235B58f9e8a93d@coffeebean.com>":
 \nL'été est là et c'est le moment idéal pour célébrer son arrivée avec une
  soirée festive en terrasse ! Rendez-vous au Mouton Noir à Baie-Saint-Paul
  pour une soirée sur la terrasse le vendredi 14 juin à partir de 17h. Prof
 itez d'un cocktail de bienvenue et de délicieuses bouchées pour 23 $\, ave
 c la possibilité de continuer à se régaler avec les menus habituels de cui
 sine et de bar. De plus\, quelques surprises sont prévues pour agrémenter 
 la soirée !\n*** En cas de pluie\, la soirée sera reportée. ***\n
DTSTART:20240614T210000Z
DTEND:20240615T030000Z
GEO:+47.443092;-70.50811
LOCATION:Mouton Noir
ORGANIZER:
SEQUENCE:1
SUMMARY:Party de terrasse au Mouton Noir
TRANSP:OPAQUE
URL:https://baiesaintpaulguide.com/component/icagenda/party-de-terrasse.htm
 l?Itemid=103
END:VEVENT
END:VCALENDAR
