BEGIN:VCALENDAR
VERSION:2.0
PRODID:-//Baie-Saint-Paul Guide//NONSGML kigkonsult.se iCalcreator 2.30.10/
 /
CALSCALE:GREGORIAN
METHOD:PUBLISH
UID:e0938228-9fef-41e3-ad14-ac0b6c519e70
X-WR-CALNAME:iCagenda
X-WR-CALDESC:Event Management Extension for Joomla!
X-WR-RELCALID:3E26604A-50F4-4449-8B3E-E4F4932D05B5
X-WR-TIMEZONE:America/Toronto
BEGIN:VTIMEZONE
TZID:America/Toronto
BEGIN:STANDARD
TZNAME:EST
DTSTART:20241103T020000
TZOFFSETFROM:-0400
TZOFFSETTO:-0500
RDATE:20251102T020000
RDATE:20261101T020000
END:STANDARD
BEGIN:DAYLIGHT
TZNAME:EDT
DTSTART:20250309T020000
TZOFFSETFROM:-0500
TZOFFSETTO:-0400
RDATE:20260308T020000
END:DAYLIGHT
END:VTIMEZONE
BEGIN:VEVENT
UID:363427a3-be2d-47ec-81b4-bb2523aa762b
DTSTAMP:20260423T031536Z
CATEGORIES:Bistro des Balcons
CLASS:PUBLIC
DESCRIPTION;ALTREP="CID:<FFFF__=0ABBE548DFE235B58f9e8a93d@coffeebean.com>":
 La programmation estivale des Balcons est fièrement présentée par Menaud 
 \n Samedi 5 juillet • 20h30 Perséide Rock psychédélique\nLa bande de Persé
 ide a commencé ses aventures à la fin des années 10 (celles du XXIe siècle
 \, là!) Aujourd’hui\, le groupe avance d’un même pas dans une marche menée
  par Louis-Philippe Cantin qui s’accompagne de ses comparses Olivier Duran
 d\, Samuel Milette\, Adrien Lauture et Nicolas Poirier. Ils arpentent ense
 mble un territoire musical à la fois instinctif et maîtrisé.\nAvec le temp
 s\, le groupe a laissé plusieurs cailloux derrière lui pour tracer son che
 min : un Ep\, deux albums et quelques chansons satellites. Ils incitent to
 us à quitter le sentier vers les méandres d’une pop-rock solaire inspirée 
 des sixties\, des déambulations de l’acid-folk\, du kaléidoscopique kosmis
 che allemand et des teintes terreuses des 90s.\nDepuis Les couleurs d’été 
 (2023) – nommé au GAMIQ dans la catégorie « Album rock de l’année » – Pers
 éide ne s’est pas reposé. Le quintette plonge maintenant dans un univers p
 lus personnel avec comme seule boussole son sens de la découverte\, mêlant
  la nostalgie du country-folk aux ambiances feutrées du trip-hop.\nAvec Pa
 ssages secrets (2025)\, le groupe repousse encore ses propres frontières e
 t propose un nouvel album arqué sur la liberté et l’émancipation. Chaque m
 orceau est un portail sur un nouvel univers\, un débouché sur une nouvelle
  clairière\, tantôt chuchoté en secret\, tantôt extatique\, mais qui convi
 e toujours à se défaire de ses chaînes et à croquer dans le fruit.\n https
 ://www.youtube.com/watch?v=namVZ7X2K0o\n \n Cet été\, nous sommes ravis de
  vous offrir un accès hebdomadaire à la culture émergente d’ici avec une s
 aison complète de spectacles à contribution volontaire seulement \n Commen
 t ça marche?VOUS dictez le prix d’entrée de votre billet. Tout l’argent de
  la billetterie volontaire se rend directement aux artistes.
DTSTART:20250706T003000Z
DTEND:20250706T020000Z
GEO:+47.438202;-70.505577
LOCATION:Bistro des Balcons
ORGANIZER:
SEQUENCE:1
SUMMARY:Perséide au Bistro des Balcons
TRANSP:OPAQUE
URL:https://baiesaintpaulguide.com/component/icagenda/perseide-au-bistro-de
 s-balcons.html?Itemid=103
END:VEVENT
END:VCALENDAR
