BEGIN:VCALENDAR
VERSION:2.0
PRODID:-//Baie-Saint-Paul Guide//NONSGML kigkonsult.se iCalcreator 2.30.10/
 /
CALSCALE:GREGORIAN
METHOD:PUBLISH
UID:7acef653-549d-40f3-8945-0c583761c6fc
X-WR-CALNAME:iCagenda
X-WR-CALDESC:Event Management Extension for Joomla!
X-WR-RELCALID:3E26604A-50F4-4449-8B3E-E4F4932D05B5
X-WR-TIMEZONE:America/Toronto
BEGIN:VTIMEZONE
TZID:America/Toronto
BEGIN:STANDARD
TZNAME:EST
DTSTART:20241103T020000
TZOFFSETFROM:-0400
TZOFFSETTO:-0500
RDATE:20251102T020000
RDATE:20261101T020000
END:STANDARD
BEGIN:DAYLIGHT
TZNAME:EDT
DTSTART:20250309T020000
TZOFFSETFROM:-0500
TZOFFSETTO:-0400
RDATE:20260308T020000
END:DAYLIGHT
END:VTIMEZONE
BEGIN:VEVENT
UID:93447295-e26a-4659-b46a-3ac66e037a05
DTSTAMP:20260423T032225Z
CATEGORIES:Musée d'art contemporain de Baie-Saint-Paul
CLASS:PUBLIC
DESCRIPTION;ALTREP="CID:<FFFF__=0ABBE548DFE235B58f9e8a93d@coffeebean.com>":
  Placette Party — 9 juillet dès 17 h Consomme ta culture locale jusqu’au b
 out !Venez passer un moment convivial et gourmand sur notre Placette en co
 mpagnie de producteurs d’ici.\nCette semaine\, La Ferme Éboulmontaise pren
 d les rênes du menu et s'associe à la cidrerie Les Travaux et les Jours po
 ur vous offrir une expérience savoureuse\, bien ancrée dans notre terroir.
 \nLe menu...Des bouchées créatives et locales avec des clins d'œil à : Pêc
 herie Charlevoix Le potager de la Crapaudine et leur collectif maraîcher L
 upin et fruits Légumes croquants\, labneh maison\, bouchées keftas ou merg
 uez\, œufs de caille aux parfums variés\, et une planchette de charcuterie
 s à partager\, mettant en vedette la mortadelle\, la rillette d’esturgeon 
 et la nduja. Et pour accompagner le tout : les cidres de Les Travaux et le
 s Jours\, servis sur place!\nLes prix sont pensés pour être accessibles à 
 toutes les bourses – parfait pour les familles : petites bouchées à partir
  de 3 $\, options végétariennes et portions à partager.\n Pssst... on n’ou
 blie pas vos pitous !\nVenez profiter d’une belle soirée sous le signe de 
 la gourmandise\, du local et de la convivialité. Un bel événement pour sav
 ourer l’été tout en culture !\n*L'événement sera annulé en cas de pluie
DTSTART:20250709T210000Z
DTEND:20250709T230000Z
GEO:+47.440292;-70.505592
LOCATION:Place Desjardins
ORGANIZER:
SEQUENCE:1
SUMMARY:Placette Party avec La Ferme Éboulmontaise et Les Travaux et Les Jo
 urs
TRANSP:OPAQUE
URL:https://baiesaintpaulguide.com/component/icagenda/placette-party-avec-l
 a-ferme-eboulmontaise-et-les-travaux-et-les-jours.html?Itemid=103
END:VEVENT
END:VCALENDAR
