BEGIN:VCALENDAR
VERSION:2.0
PRODID:-//Baie-Saint-Paul Guide//NONSGML kigkonsult.se iCalcreator 2.30.10/
 /
CALSCALE:GREGORIAN
METHOD:PUBLISH
UID:16428436-aa18-4a78-acff-7ad5cd7c5342
X-WR-CALNAME:iCagenda
X-WR-CALDESC:Event Management Extension for Joomla!
X-WR-RELCALID:3E26604A-50F4-4449-8B3E-E4F4932D05B5
X-WR-TIMEZONE:America/Toronto
BEGIN:VTIMEZONE
TZID:America/Toronto
BEGIN:STANDARD
TZNAME:EST
DTSTART:20241103T020000
TZOFFSETFROM:-0400
TZOFFSETTO:-0500
RDATE:20251102T020000
RDATE:20261101T020000
END:STANDARD
BEGIN:DAYLIGHT
TZNAME:EDT
DTSTART:20250309T020000
TZOFFSETFROM:-0500
TZOFFSETTO:-0400
RDATE:20260308T020000
END:DAYLIGHT
END:VTIMEZONE
BEGIN:VEVENT
UID:f3a80927-f377-4ece-ba53-d182332e5468
DTSTAMP:20260423T031419Z
CATEGORIES:Animation Baie-Saint-Paul
CLASS:PUBLIC
DESCRIPTION;ALTREP="CID:<FFFF__=0ABBE548DFE235B58f9e8a93d@coffeebean.com>":
 Cet été\, profitez de deux spectacles d’humour\, présentés par trois humor
 istes professionnels différents à chaque soir lors de magnifiques soirées 
 d’été.&nbsp\;\nDepuis 2021\, Rire en Fût sillonne la province afin d’amene
 r le rire vers vous\, dans le cadre de soirées d’humour estivales en plein
  air\, si la météo le veut bien!Tout ce dont vous avez besoin\, c’est d’ap
 porter votre chaise et de venir rire et vous amuser avec nous!
DTSTART:20250817T233000Z
DTEND:20250817T233000Z
GEO:+47.441021;-70.506462
LOCATION:Place de l'Église
ORGANIZER:
SEQUENCE:1
SUMMARY:Rire en Fût
TRANSP:OPAQUE
URL:https://baiesaintpaulguide.com/component/icagenda/rire-en-fut.html?Item
 id=103
END:VEVENT
END:VCALENDAR
