BEGIN:VCALENDAR
VERSION:2.0
PRODID:-//Baie-Saint-Paul Guide//NONSGML kigkonsult.se iCalcreator 2.30.10/
 /
CALSCALE:GREGORIAN
METHOD:PUBLISH
UID:6e0b81ea-af09-4b23-a232-f02ca9c28b8c
X-WR-CALNAME:iCagenda
X-WR-CALDESC:Event Management Extension for Joomla!
X-WR-RELCALID:3E26604A-50F4-4449-8B3E-E4F4932D05B5
X-WR-TIMEZONE:America/Toronto
BEGIN:VTIMEZONE
TZID:America/Toronto
BEGIN:STANDARD
TZNAME:EST
DTSTART:20241103T020000
TZOFFSETFROM:-0400
TZOFFSETTO:-0500
RDATE:20251102T020000
RDATE:20261101T020000
END:STANDARD
BEGIN:DAYLIGHT
TZNAME:EDT
DTSTART:20250309T020000
TZOFFSETFROM:-0500
TZOFFSETTO:-0400
RDATE:20260308T020000
END:DAYLIGHT
END:VTIMEZONE
BEGIN:VEVENT
UID:947ec488-8606-44ec-b898-6e4b0218e65c
DTSTAMP:20260423T031411Z
CATEGORIES:Fête
CLASS:PUBLIC
DESCRIPTION;ALTREP="CID:<FFFF__=0ABBE548DFE235B58f9e8a93d@coffeebean.com>":
 Tu aimes rouler en gang et savourer une bonne bière après l’effort? On a l
 ’événement qu’il te faut!\n Au Camping Le Genévrier Jeudi 24 juillet 2025 
 De 18h à 20h\nOn roule\, on jase et on déguste une bière locale de la Micr
 oBrasserie Charlevoix… ou celle que tu auras apportée! \n Il y aura aussi 
 de la bière en vente sur place.\n Accessible à tous les niveaux – c’est le
  plaisir qui compte! Apporte ton vélo\, ton casque… et ta bonne humeur!\nQ
 ue tu sois un habitué ou que ce soit ta première fois\, tu es le bienvenu!
 \nPédaler. Partager. Siroter. C’est aussi simple que ça.
DTSTART:20250724T220000Z
DTEND:20250725T000000Z
GEO:+47.47641;-70.533669
LOCATION:Camping Le Genévrier - Vélo Charlevoix
ORGANIZER:
SEQUENCE:1
SUMMARY:Roule pour la Bière
TRANSP:OPAQUE
URL:https://baiesaintpaulguide.com/component/icagenda/roule-pour-la-biere.h
 tml?Itemid=103
END:VEVENT
END:VCALENDAR
