BEGIN:VCALENDAR
VERSION:2.0
PRODID:-//Baie-Saint-Paul Guide//NONSGML kigkonsult.se iCalcreator 2.30.10/
 /
CALSCALE:GREGORIAN
METHOD:PUBLISH
UID:24506447-52bc-4cb8-a764-ce81f6f346a0
X-WR-CALNAME:iCagenda
X-WR-CALDESC:Event Management Extension for Joomla!
X-WR-RELCALID:3E26604A-50F4-4449-8B3E-E4F4932D05B5
X-WR-TIMEZONE:America/Toronto
BEGIN:VTIMEZONE
TZID:America/Toronto
BEGIN:STANDARD
TZNAME:EST
DTSTART:20241103T020000
TZOFFSETFROM:-0400
TZOFFSETTO:-0500
RDATE:20251102T020000
RDATE:20261101T020000
END:STANDARD
BEGIN:DAYLIGHT
TZNAME:EDT
DTSTART:20250309T020000
TZOFFSETFROM:-0500
TZOFFSETTO:-0400
RDATE:20260308T020000
END:DAYLIGHT
END:VTIMEZONE
BEGIN:VEVENT
UID:66f6b1f5-6369-41e2-b9af-8a87b3c71971
DTSTAMP:20260423T031736Z
CATEGORIES:Bistro des Balcons
CLASS:PUBLIC
DESCRIPTION;ALTREP="CID:<FFFF__=0ABBE548DFE235B58f9e8a93d@coffeebean.com>":
  SPECTACLE présenté par LE FESTIF ! \n Vendredi 18 juillet • 19h00 Saints 
 Martyrs Art-punk GRATUIT\nSaints Martyrs est un quatuor art-punk irrévéren
 cieux et mystique au lyrisme brutal. Guitare dissonante\, synthétiseurs pe
 sants\, batterie autoritaire\, cris sauvages\, incantations prophétiques. 
 Les concerts sont des cérémonies profanes qui engouffrent le public dans u
 n chaos primal transcendant. La musique exorcise la violence de la vie mod
 erne\, les pulsions sont libérées\, la communion retrouvée. C’est parfois 
 même beau.
DTSTART:20250718T230000Z
DTEND:20250719T010000Z
GEO:+47.438202;-70.505577
LOCATION:Bistro des Balcons
ORGANIZER:
SEQUENCE:1
SUMMARY:Saints Martys au Bistro des Balcons - Le Festif!
TRANSP:OPAQUE
URL:https://baiesaintpaulguide.com/component/icagenda/saints-martys-au-bist
 ro-des-balcons-le-festif.html?Itemid=103
END:VEVENT
END:VCALENDAR
