BEGIN:VCALENDAR
VERSION:2.0
PRODID:-//Baie-Saint-Paul Guide//NONSGML kigkonsult.se iCalcreator 2.30.10/
 /
CALSCALE:GREGORIAN
METHOD:PUBLISH
UID:628169d4-4cb1-4feb-add0-1c4da1e93311
X-WR-CALNAME:iCagenda
X-WR-CALDESC:Event Management Extension for Joomla!
X-WR-RELCALID:3E26604A-50F4-4449-8B3E-E4F4932D05B5
X-WR-TIMEZONE:America/Toronto
BEGIN:VTIMEZONE
TZID:America/Toronto
BEGIN:STANDARD
TZNAME:EST
DTSTART:20241103T020000
TZOFFSETFROM:-0400
TZOFFSETTO:-0500
RDATE:20251102T020000
RDATE:20261101T020000
END:STANDARD
BEGIN:DAYLIGHT
TZNAME:EDT
DTSTART:20250309T020000
TZOFFSETFROM:-0500
TZOFFSETTO:-0400
RDATE:20260308T020000
END:DAYLIGHT
END:VTIMEZONE
BEGIN:VEVENT
UID:03420704-1c0f-41b0-975b-3cfaaed9ef29
DTSTAMP:20260423T031352Z
CATEGORIES:Animation Baie-Saint-Paul
CLASS:PUBLIC
DESCRIPTION;ALTREP="CID:<FFFF__=0ABBE548DFE235B58f9e8a93d@coffeebean.com>":
 Pour Slim Tony\, le hip-hop québécois a été bien plus qu’un genre musical 
 : c’était un moyen de rester connecté à sa langue maternelle pendant qu’il
  vivait aux États-Unis. En 2016\, il assiste à un spectacle de Koriass au 
 Festif! de Baie-Saint-Paul\, une prestation marquante qui lui révèle la ri
 chesse et la vitalité du rap d’ici. Sept ans plus tard\, il partage cette 
 même scène en assurant la première partie du rappeur à La Malbaie — un mom
 ent charnière dans sa jeune carrière.\nAlors que son univers musical s’éla
 rgit\, son attachement au boom bap se manifeste de plus en plus clairement
 . Il décrit son style comme « un peu comme si Loud Lary Ajust rencontrait 
 MF Doom\, ou que Dead Obies se mélangeait à Nas ». Depuis 2021\, Slim Tony
  enchaîne les prestations aux quatre coins du Québec : Festif! de Baie-Sai
 nt-Paul\, Festival Santa Teresa\, St-Roch XP\, Le Phoque OFF\, Festival KW
 E!\, STUDIOTELUS du Grand Théâtre de Québec\, Quai des Brumes\, Auberge &a
 mp\; Bistro des Balcons\, l’Ampli de Québec et plusieurs autres.\nIl fait 
 ses débuts officiels sur la scène rap québécoise en 2021 avec Produit du T
 erroir\, un projet organique rendant hommage à sa région natale de Charlev
 oix. En 2023\, il revient avec Young Gun\, un premier album aux sonorités 
 boom bap des années 90\, porté par des textes solides et soignés. Son EP D
 ame de cœur\, paru en novembre dernier\, dévoile un côté plus personnel\, 
 inspiré par une peine d’amour. Fidèle à son influence old school\, Slim To
 ny y propose un flow rythmé\, des refrains accrocheurs et une collaboratio
 n remarquée avec Sensei H sur le morceau Au pied de la lettre.
DTSTART:20250725T233000Z
DTEND:20250726T010000Z
GEO:+47.441021;-70.506462
LOCATION:Place de l'Église
ORGANIZER:
SEQUENCE:1
SUMMARY:Slim Tony
TRANSP:OPAQUE
URL:https://baiesaintpaulguide.com/component/icagenda/slim-tony.html?Itemid
 =103
END:VEVENT
END:VCALENDAR
