BEGIN:VCALENDAR
VERSION:2.0
PRODID:-//Baie-Saint-Paul Guide//NONSGML kigkonsult.se iCalcreator 2.30.10/
 /
CALSCALE:GREGORIAN
METHOD:PUBLISH
UID:c4db2012-ad3b-427c-9f1d-774377f00154
X-WR-CALNAME:iCagenda
X-WR-CALDESC:Event Management Extension for Joomla!
X-WR-RELCALID:3E26604A-50F4-4449-8B3E-E4F4932D05B5
X-WR-TIMEZONE:America/Toronto
BEGIN:VTIMEZONE
TZID:America/Toronto
BEGIN:STANDARD
TZNAME:EST
DTSTART:20241103T020000
TZOFFSETFROM:-0400
TZOFFSETTO:-0500
RDATE:20251102T020000
RDATE:20261101T020000
END:STANDARD
BEGIN:DAYLIGHT
TZNAME:EDT
DTSTART:20250309T020000
TZOFFSETFROM:-0500
TZOFFSETTO:-0400
RDATE:20260308T020000
END:DAYLIGHT
END:VTIMEZONE
BEGIN:VEVENT
UID:c478ea80-33b3-41c7-9233-257e149de3d6
DTSTAMP:20260423T031412Z
CATEGORIES:Symposium de Baie-Saint-Paul
CLASS:PUBLIC
DESCRIPTION;ALTREP="CID:<FFFF__=0ABBE548DFE235B58f9e8a93d@coffeebean.com>":
  Soirée d'ouverture du Symposium !\nUn 5 à 7 festif sur la Placette Desjar
 dins\, où vous pourrez rencontrer nos artistes en résidence et prendre par
 t à des activités créatives !Une fois de plus\, on vous prévoit une ambian
 ce festive pour ce coup d’envoi de la 43ᵉ édition !\n Animation musicale :
  Ève Soulard et Clément Robichaud\, en formule jazz\n Consultez la program
 mation complète : www.symposiumbsp.com
DTSTART:20250730T210000Z
DTEND:20250730T230000Z
GEO:+47.440292;-70.505592
LOCATION:Musée d'art contemporain de Baie-Saint-Paul
ORGANIZER:
SEQUENCE:1
SUMMARY:Soirée d’ouverture du Symposium
TRANSP:OPAQUE
URL:https://baiesaintpaulguide.com/component/icagenda/soiree-douverture-du-
 symposium.html?Itemid=103
END:VEVENT
END:VCALENDAR
