BEGIN:VCALENDAR
VERSION:2.0
PRODID:-//Baie-Saint-Paul Guide//NONSGML kigkonsult.se iCalcreator 2.30.10/
 /
CALSCALE:GREGORIAN
METHOD:PUBLISH
UID:7cada1db-79bc-4c2f-841a-240e4ee5c0ae
X-WR-CALNAME:iCagenda
X-WR-CALDESC:Event Management Extension for Joomla!
X-WR-RELCALID:3E26604A-50F4-4449-8B3E-E4F4932D05B5
X-WR-TIMEZONE:America/Toronto
BEGIN:VTIMEZONE
TZID:America/Toronto
BEGIN:STANDARD
TZNAME:EST
DTSTART:20241103T020000
TZOFFSETFROM:-0400
TZOFFSETTO:-0500
RDATE:20251102T020000
RDATE:20261101T020000
END:STANDARD
BEGIN:DAYLIGHT
TZNAME:EDT
DTSTART:20250309T020000
TZOFFSETFROM:-0500
TZOFFSETTO:-0400
RDATE:20260308T020000
END:DAYLIGHT
END:VTIMEZONE
BEGIN:VEVENT
UID:e1ae20a4-bca3-4856-9fe8-be7c1e119758
DTSTAMP:20260423T031903Z
CATEGORIES:Vernissage
CLASS:PUBLIC
DESCRIPTION;ALTREP="CID:<FFFF__=0ABBE548DFE235B58f9e8a93d@coffeebean.com>":
 INVITATION AU VERNISSAGE - SAMEDI 25 JUILLET 2025
DTSTART:20250726T180000Z
DTEND:20250726T190000Z
GEO:+47.439861;-70.506615
LOCATION:Carrefour culturel Paul-Médéric
ORGANIZER:
SEQUENCE:1
SUMMARY:VERNISSAGE : Diane Otis | Alain Caron | Maple Syrup Design Collecti
 ve
TRANSP:OPAQUE
URL:https://baiesaintpaulguide.com/component/icagenda/vernissage-diane-otis
 -alain-caron-maple-syrup-design-collective.html?Itemid=103
END:VEVENT
END:VCALENDAR
