BEGIN:VCALENDAR
VERSION:2.0
PRODID:-//Baie-Saint-Paul Guide//NONSGML kigkonsult.se iCalcreator 2.30.10/
 /
CALSCALE:GREGORIAN
METHOD:PUBLISH
UID:5fcf8eb0-e005-41cc-9ea9-2603e60f5af4
X-WR-CALNAME:iCagenda
X-WR-CALDESC:Event Management Extension for Joomla!
X-WR-RELCALID:3E26604A-50F4-4449-8B3E-E4F4932D05B5
X-WR-TIMEZONE:America/Toronto
BEGIN:VTIMEZONE
TZID:America/Toronto
BEGIN:STANDARD
TZNAME:EST
DTSTART:20241103T020000
TZOFFSETFROM:-0400
TZOFFSETTO:-0500
RDATE:20251102T020000
RDATE:20261101T020000
END:STANDARD
BEGIN:DAYLIGHT
TZNAME:EDT
DTSTART:20250309T020000
TZOFFSETFROM:-0500
TZOFFSETTO:-0400
RDATE:20260308T020000
END:DAYLIGHT
END:VTIMEZONE
BEGIN:VEVENT
UID:dd80d436-0a13-4615-a4fa-53cfaef94d92
DTSTAMP:20260423T031353Z
CATEGORIES:Animation Baie-Saint-Paul
CLASS:PUBLIC
DESCRIPTION;ALTREP="CID:<FFFF__=0ABBE548DFE235B58f9e8a93d@coffeebean.com>":
 Vincent\, artiste de cirque et performeur athlétique\, vous transporte dan
 s son univers depuis plus de 22 ans. Ancien gymnaste d’élite\, il découvre
  sa passion pour le cirque et le théâtre de rue\, un art qu’il qualifie de
  pur et universel. Entre acrobaties spectaculaires\, break dance explosif 
 et humour rafraîchissant\, Vincent captive tous les publics. Une boule d’é
 nergie attachante qui transforme chaque spectacle en un moment de partage 
 et de magie.
DTSTART:20250711T223000Z
DTEND:20250711T233000Z
GEO:+47.441021;-70.506462
LOCATION:Place de l'Église
ORGANIZER:
SEQUENCE:1
SUMMARY:Vincent Mongeon
TRANSP:OPAQUE
URL:https://baiesaintpaulguide.com/component/icagenda/vincent-mongeon.html?
 Itemid=103
END:VEVENT
END:VCALENDAR
