BEGIN:VCALENDAR
VERSION:2.0
PRODID:-//Baie-Saint-Paul Guide//NONSGML kigkonsult.se iCalcreator 2.30.10/
 /
CALSCALE:GREGORIAN
METHOD:PUBLISH
UID:fdb89c7a-10c9-4705-928b-b2db43985307
X-WR-CALNAME:iCagenda
X-WR-CALDESC:Event Management Extension for Joomla!
X-WR-RELCALID:3E26604A-50F4-4449-8B3E-E4F4932D05B5
X-WR-TIMEZONE:America/Toronto
BEGIN:VTIMEZONE
TZID:America/Toronto
BEGIN:STANDARD
TZNAME:EST
DTSTART:20231105T020000
TZOFFSETFROM:-0400
TZOFFSETTO:-0500
RDATE:20241103T020000
RDATE:20251102T020000
END:STANDARD
BEGIN:DAYLIGHT
TZNAME:EDT
DTSTART:20240310T020000
TZOFFSETFROM:-0500
TZOFFSETTO:-0400
RDATE:20250309T020000
END:DAYLIGHT
END:VTIMEZONE
BEGIN:VEVENT
UID:923df442-5a68-4a5f-b476-fd86bb55de11
DTSTAMP:20260422T132950Z
CATEGORIES:Les Dimanches Musicaux
CLASS:PUBLIC
DESCRIPTION;ALTREP="CID:<FFFF__=0ABBE548DFE235B58f9e8a93d@coffeebean.com>":
 Ne manquez pas l'occasion d'assister à une performance unique de Cordâme d
 ans le cadre enchanteur de la Chapelle de Maison Mère\, à 11h. Ce groupe t
 alentueux vous transportera avec des mélodies évocatrices et des sonorités
  riches qui explorent les textures et le timbre des instruments à cordes.
 \nCordâme - Violon\, contrebasse\, percussions\, violoncelle\nLe prix d'en
 trée est de 15 $ pour l'admission générale\, gratuit pour les enfants de 1
 2 ans et moins\, et 100 $ pour la série de 8 concerts. Profitez également 
 de café et de petites douceurs pour agrémenter votre expérience musicale.
 \nCordâme explore les textures\, le timbre et la sonorité propres aux cord
 es et fait naître des musiques évocatrices\, riches en images\, qui nous t
 ransportent facilement dans des folklores métissés. Venez vivre un moment 
 musical inoubliable avec Cordâme!\nAchetez des billets en ligne\n&nbsp\;
DTSTART:20240825T150000Z
DTEND:20240825T160000Z
GEO:+47.438522;-70.506187
LOCATION:Chapelle de Maison Mère
ORGANIZER:
SEQUENCE:1
SUMMARY:Cordâme - Les Dimanches Musicaux
TRANSP:OPAQUE
URL:https://baiesaintpaulguide.com/evenements/cordame-les-dimanches-musicau
 x.html
END:VEVENT
END:VCALENDAR
