BEGIN:VCALENDAR
VERSION:2.0
PRODID:-//Baie-Saint-Paul Guide//NONSGML kigkonsult.se iCalcreator 2.30.10/
 /
CALSCALE:GREGORIAN
METHOD:PUBLISH
UID:fb3c9a23-6179-45dd-a47f-5e532c772ebf
X-WR-CALNAME:iCagenda
X-WR-CALDESC:Event Management Extension for Joomla!
X-WR-RELCALID:3E26604A-50F4-4449-8B3E-E4F4932D05B5
X-WR-TIMEZONE:America/Toronto
BEGIN:VTIMEZONE
TZID:America/Toronto
BEGIN:STANDARD
TZNAME:EST
DTSTART:20231105T020000
TZOFFSETFROM:-0400
TZOFFSETTO:-0500
RDATE:20241103T020000
RDATE:20251102T020000
END:STANDARD
BEGIN:DAYLIGHT
TZNAME:EDT
DTSTART:20240310T020000
TZOFFSETFROM:-0500
TZOFFSETTO:-0400
RDATE:20250309T020000
END:DAYLIGHT
END:VTIMEZONE
BEGIN:VEVENT
UID:260354ee-8600-41c2-93a0-bf733ee73af4
DTSTAMP:20260422T143024Z
CATEGORIES:Le Festif!
CLASS:PUBLIC
DESCRIPTION;ALTREP="CID:<FFFF__=0ABBE548DFE235B58f9e8a93d@coffeebean.com>":
 Good Trouble Brass Band\, inspiré par le légendaire John Lewis et son mant
 ra “Good Trouble\,” incarne l'esprit de la musique de la Nouvelle-Orléans 
 et la culture activiste. Initialement formé pour participer à des manifest
 ations anti-guerre\, le groupe a évolué pour devenir un élément incontourn
 able des causes progressistes. Leur musique\, énergique et entraînante\, e
 st faite pour être vécue en mouvement\, ajoutant une dimension vivante et 
 mobile à l'expérience. Venez vivre cette fusion de musique et d'engagement
  social dans une ambiance déjantée et familiale\, sans place assise\, mais
  avec un service de bar et de nourriture à disposition. Ne manquez pas cet
 te célébration unique !\nAccès gratuit\nLa Rue Festive Télé-Québec rend ho
 mmage à la Fête Foraine de Baie-Saint-Paul\, une célébration qui a évolué 
 pour donner naissance au célèbre Cirque du Soleil. Plongez dans l’ambiance
  vibrante avec des acrobates\, des jongleurs\, des fanfares\, et des music
 iens ambulants qui envahissent la rue Saint-Jean-Baptiste\, au cœur du Fes
 tif!. Rejoignez-nous en famille ou entre amis pour profiter de la présence
  de dizaines d’artistes et de troupes venus des quatre coins du monde !
DTSTART:20240720T160000Z
DTEND:20240720T163000Z
GEO:+47.443535;-70.507874
LOCATION:Rue Festive (rue de la tannerie)
ORGANIZER:
SEQUENCE:1
SUMMARY:Good Trouble Brass Band - Le Festif!
TRANSP:OPAQUE
URL:https://baiesaintpaulguide.com/evenements/good-trouble-brass-band-le-fe
 stif.html
END:VEVENT
END:VCALENDAR
