BEGIN:VCALENDAR
VERSION:2.0
PRODID:-//Baie-Saint-Paul Guide//NONSGML kigkonsult.se iCalcreator 2.30.10/
 /
CALSCALE:GREGORIAN
METHOD:PUBLISH
UID:9b113a5d-f67b-4fed-91c6-509876755588
X-WR-CALNAME:iCagenda
X-WR-CALDESC:Event Management Extension for Joomla!
X-WR-RELCALID:3E26604A-50F4-4449-8B3E-E4F4932D05B5
X-WR-TIMEZONE:America/Toronto
BEGIN:VTIMEZONE
TZID:America/Toronto
BEGIN:STANDARD
TZNAME:EST
DTSTART:20231105T020000
TZOFFSETFROM:-0400
TZOFFSETTO:-0500
RDATE:20241103T020000
RDATE:20251102T020000
END:STANDARD
BEGIN:DAYLIGHT
TZNAME:EDT
DTSTART:20240310T020000
TZOFFSETFROM:-0500
TZOFFSETTO:-0400
RDATE:20250309T020000
END:DAYLIGHT
END:VTIMEZONE
BEGIN:VEVENT
UID:2e027560-5a88-45fa-a981-0c03ad228218
DTSTAMP:20260422T174516Z
CATEGORIES:Animation Baie-Saint-Paul
CLASS:PUBLIC
DESCRIPTION;ALTREP="CID:<FFFF__=0ABBE548DFE235B58f9e8a93d@coffeebean.com>":
 Rejoignez-nous pour un spectacle de cirque captivant avec l'artiste multid
 isciplinaire Guillaume Fontaine. L'entrée au spectacle est gratuite pour t
 ous les spectateurs.
DTSTART:20240802T223000Z
DTEND:20240802T230000Z
GEO:+47.44038;-70.506477
LOCATION:Place de l'Église
ORGANIZER:
SEQUENCE:1
SUMMARY:Guillaume Fontaine - cirque
TRANSP:OPAQUE
URL:https://baiesaintpaulguide.com/evenements/guillaume-fontaine-cirque.htm
 l
END:VEVENT
END:VCALENDAR
