BEGIN:VCALENDAR
VERSION:2.0
PRODID:-//Baie-Saint-Paul Guide//NONSGML kigkonsult.se iCalcreator 2.30.10/
 /
CALSCALE:GREGORIAN
METHOD:PUBLISH
UID:32553f70-7019-4691-91de-46604a869295
X-WR-CALNAME:iCagenda
X-WR-CALDESC:Event Management Extension for Joomla!
X-WR-RELCALID:3E26604A-50F4-4449-8B3E-E4F4932D05B5
X-WR-TIMEZONE:America/Toronto
BEGIN:VTIMEZONE
TZID:America/Toronto
BEGIN:STANDARD
TZNAME:EST
DTSTART:20231105T020000
TZOFFSETFROM:-0400
TZOFFSETTO:-0500
RDATE:20241103T020000
RDATE:20251102T020000
END:STANDARD
BEGIN:DAYLIGHT
TZNAME:EDT
DTSTART:20240310T020000
TZOFFSETFROM:-0500
TZOFFSETTO:-0400
RDATE:20250309T020000
END:DAYLIGHT
END:VTIMEZONE
BEGIN:VEVENT
UID:ab279e9c-6f26-47a2-81e7-da69ec459490
DTSTAMP:20260423T005719Z
CATEGORIES:Le Festif!
CLASS:PUBLIC
DESCRIPTION;ALTREP="CID:<FFFF__=0ABBE548DFE235B58f9e8a93d@coffeebean.com>":
 Haviah Mighty se produira lors du Festif! de Baie-Saint-Paul au Garage du 
 curé Exclaim!. Née le 17 décembre 1992 à Brampton\, Ontario\, Haviah est u
 ne rappeuse canadienne qui s'est fait connaître en 2016 en tant que membre
  du groupe de hip-hop The Sorority. Elle a ensuite sorti plusieurs EPs en 
 solo\, notamment Flower City en 2017. Son premier album\, 13th Floor\, sor
 ti en 2019\, a remporté le prestigieux Prix de musique Polaris.\nEn 2021\,
  elle a sorti le mixtape Stock Exchange\, qui a remporté le prix Juno pour
  l'album/EP rap de l'année en 2022. Haviah Mighty est reconnue pour sa cap
 acité à aborder des thèmes profonds et importants dans sa musique\, tout e
 n offrant des performances énergiques et captivantes. Ne manquez pas l'occ
 asion de voir cette artiste talentueuse en live lors de cet événement au F
 estif! de Baie-Saint-Paul\, où l'entrée est gratuite pour tous.
DTSTART:20240718T233000Z
DTEND:20240719T003000Z
GEO:+47.440739;-70.506996
LOCATION:Garage du curé Exclaim!
ORGANIZER:
SEQUENCE:1
SUMMARY:Haviah Mighty - Le Festif!
TRANSP:OPAQUE
URL:https://baiesaintpaulguide.com/evenements/haviah-mighty-le-festif.html
END:VEVENT
END:VCALENDAR
