BEGIN:VCALENDAR
VERSION:2.0
PRODID:-//Baie-Saint-Paul Guide//NONSGML kigkonsult.se iCalcreator 2.30.10/
 /
CALSCALE:GREGORIAN
METHOD:PUBLISH
UID:eb37c33e-8c33-4fc4-ace8-d4b34e521828
X-WR-CALNAME:iCagenda
X-WR-CALDESC:Event Management Extension for Joomla!
X-WR-RELCALID:3E26604A-50F4-4449-8B3E-E4F4932D05B5
X-WR-TIMEZONE:America/Toronto
BEGIN:VTIMEZONE
TZID:America/Toronto
BEGIN:STANDARD
TZNAME:EST
DTSTART:20231105T020000
TZOFFSETFROM:-0400
TZOFFSETTO:-0500
RDATE:20241103T020000
RDATE:20251102T020000
END:STANDARD
BEGIN:DAYLIGHT
TZNAME:EDT
DTSTART:20240310T020000
TZOFFSETFROM:-0500
TZOFFSETTO:-0400
RDATE:20250309T020000
END:DAYLIGHT
END:VTIMEZONE
BEGIN:VEVENT
UID:a604df6b-15b2-4c78-aab9-0c2f6eee6e98
DTSTAMP:20260422T143307Z
CATEGORIES:Le Festif!
CLASS:PUBLIC
DESCRIPTION;ALTREP="CID:<FFFF__=0ABBE548DFE235B58f9e8a93d@coffeebean.com>":
 Ne manquez pas Marie-Annick Lépine au Festif! de Baie-Saint-Paul sur la Sc
 ène Loto-Québec. Membre essentielle des Cowboys Fringants\, Marie-Annick L
 épine est reconnue pour son talent musical exceptionnel et sa polyvalence.
  Multi-instrumentiste accomplie\, elle apporte une touche unique à chaque 
 projet avec sa maîtrise du violon\, du piano\, de la mandoline\, et bien p
 lus encore.\nDepuis le début de sa carrière\, Marie-Annick a su captiver l
 e public avec ses mélodies envoûtantes et ses textes poétiques. Ses albums
  solo\, comme Entre Beaurivage et L’Ange-Gardien\, dévoilent une artiste à
  la sensibilité profonde et à l'univers musical riche et varié.\nAssistez 
 à ce concert magique sur la Scène Loto-Québec et laissez-vous transporter 
 par la musique enchanteresse de Marie-Annick Lépine au Festif! de Baie-Sai
 nt-Paul.
DTSTART:20240720T210000Z
DTEND:20240720T221500Z
GEO:+47.441212;-70.502747
LOCATION:Scène Loto-Québec
ORGANIZER:
SEQUENCE:1
SUMMARY:Marie-Annick Lépine - Le Festif!
TRANSP:OPAQUE
URL:https://baiesaintpaulguide.com/evenements/marie-annick-lepine-le-festif
 .html
END:VEVENT
END:VCALENDAR
