BEGIN:VCALENDAR
VERSION:2.0
PRODID:-//Baie-Saint-Paul Guide//NONSGML kigkonsult.se iCalcreator 2.30.10/
 /
CALSCALE:GREGORIAN
METHOD:PUBLISH
UID:eaa5ef0c-ef62-4867-a8ec-534e83f6e034
X-WR-CALNAME:iCagenda
X-WR-CALDESC:Event Management Extension for Joomla!
X-WR-RELCALID:3E26604A-50F4-4449-8B3E-E4F4932D05B5
X-WR-TIMEZONE:America/Toronto
BEGIN:VTIMEZONE
TZID:America/Toronto
BEGIN:STANDARD
TZNAME:EST
DTSTART:20231105T020000
TZOFFSETFROM:-0400
TZOFFSETTO:-0500
RDATE:20241103T020000
RDATE:20251102T020000
END:STANDARD
BEGIN:DAYLIGHT
TZNAME:EDT
DTSTART:20240310T020000
TZOFFSETFROM:-0500
TZOFFSETTO:-0400
RDATE:20250309T020000
END:DAYLIGHT
END:VTIMEZONE
BEGIN:VEVENT
UID:6ce35d40-952f-4fb1-b76d-964dc42bad3c
DTSTAMP:20260422T174616Z
CATEGORIES:Bistro des Balcons
CLASS:PUBLIC
DESCRIPTION;ALTREP="CID:<FFFF__=0ABBE548DFE235B58f9e8a93d@coffeebean.com>":
 R&amp\;B Alternatif. Contributions volontaires // Bienvenue à toustes ! BI
 O : Montréalaise d’origine haïtienne\, Naïma Frank est une auteure-composi
 trice-interprète qui allie le R&amp\;B alternatif\, sonorités pop et un je
 -ne-sais-quoi d’inclassable. Elle est considérée comme une artiste montant
 e d’une nouvelle vague R&amp\;B au Québec. Armée d’une vulnérabilité audac
 ieuse\, cette jeune artiste chante la détresse féminine\, et sa puissance\
 , avec prose réaliste et désarmante. En 2022\, elle autoproduit son premie
 r EP Petite fille devient grande classé parmi les 10 albums passés sous le
  radar selon Radio-Canada. Plusieurs titres de ce mini-album reçoivent le 
 soutien de piliers musicaux tels que Spotify\, SiriusXM\, CIBL\, Le Canal 
 Auditif et PalmarèsADISQ. En 2023\, Naïma Frank multiplie les performances
  sur scène\, à Santa Teresa\, Vue sur la relève\, Francos de Montréal et S
 T-ROCH XP. Dans sa lancée\, elle rafle 12 prix au Festival Vue sur la Relè
 ve et reçoit la Bourse CISM de la série RADAR\, présentée par M pour Montr
 éal. Elle remporte aussi le prix CHOQ au Festival Filministe pour le meill
 eur vidéoclip avec T’es la reine. Ne manque pas ta chance de la voir en to
 ute proximité et intimité lors de son passage à Baie-Saint-Paul !
DTSTART:20240803T000000Z
DTEND:20240803T023400Z
GEO:+47.438202;-70.505577
LOCATION:Auberge & Bistro des Balcons
ORGANIZER:
SEQUENCE:1
SUMMARY:Naïma Frank au Bistro des Balcons
TRANSP:OPAQUE
URL:https://baiesaintpaulguide.com/evenements/naima-frank-au-bistro-des-bal
 cons.html
END:VEVENT
END:VCALENDAR
