BEGIN:VCALENDAR
VERSION:2.0
PRODID:-//Baie-Saint-Paul Guide//NONSGML kigkonsult.se iCalcreator 2.30.10/
 /
CALSCALE:GREGORIAN
METHOD:PUBLISH
UID:1c349efa-0735-4f8d-9acb-5b7b058cf5a6
X-WR-CALNAME:iCagenda
X-WR-CALDESC:Event Management Extension for Joomla!
X-WR-RELCALID:3E26604A-50F4-4449-8B3E-E4F4932D05B5
X-WR-TIMEZONE:America/Toronto
BEGIN:VTIMEZONE
TZID:America/Toronto
BEGIN:STANDARD
TZNAME:EST
DTSTART:20231105T020000
TZOFFSETFROM:-0400
TZOFFSETTO:-0500
RDATE:20241103T020000
RDATE:20251102T020000
END:STANDARD
BEGIN:DAYLIGHT
TZNAME:EDT
DTSTART:20240310T020000
TZOFFSETFROM:-0500
TZOFFSETTO:-0400
RDATE:20250309T020000
END:DAYLIGHT
END:VTIMEZONE
BEGIN:VEVENT
UID:2256bcbe-7ad8-43cf-92d0-fe7a924c04be
DTSTAMP:20260421T090546Z
CATEGORIES:Retraite bien-être
CLASS:PUBLIC
DESCRIPTION;ALTREP="CID:<FFFF__=0ABBE548DFE235B58f9e8a93d@coffeebean.com>":
 Rejoignez-nous pour cette retraite Signature à l’hôtel et spa Le Germain d
 ans la belle région de Charlevoix. Un séjour unique de yoga\, fitness\, bi
 en-être et expérience thermale rempli d'activités stimulantes et ressourça
 ntes. Une expérience dans un lieu distingué inoubliable !\nDétails et insc
 ription:&nbsp\;https://www.wetreat.ca/le-germain-charlevoix\nAu plaisir de
  vous accueillir !
DTSTART:20240726T210000Z
DTEND:20240728T160000Z
GEO:+47.435905;-70.504669
LOCATION:Hôtel & Spa Le Germain Charlevoix
ORGANIZER:
SEQUENCE:1
SUMMARY:Retraite de yoga fitness bien-être
TRANSP:OPAQUE
URL:https://baiesaintpaulguide.com/evenements/retraite-de-yoga-fitness-bien
 -etre-a-lhotel-et-spa-le-germain-charlevoix.html
END:VEVENT
END:VCALENDAR
