BEGIN:VCALENDAR
VERSION:2.0
PRODID:-//Baie-Saint-Paul Guide//NONSGML kigkonsult.se iCalcreator 2.30.10/
 /
CALSCALE:GREGORIAN
METHOD:PUBLISH
UID:86fa622e-619a-4c12-a35c-65dea3a95109
X-WR-CALNAME:iCagenda
X-WR-CALDESC:Event Management Extension for Joomla!
X-WR-RELCALID:3E26604A-50F4-4449-8B3E-E4F4932D05B5
X-WR-TIMEZONE:America/Toronto
BEGIN:VTIMEZONE
TZID:America/Toronto
BEGIN:STANDARD
TZNAME:EST
DTSTART:20231105T020000
TZOFFSETFROM:-0400
TZOFFSETTO:-0500
RDATE:20241103T020000
RDATE:20251102T020000
END:STANDARD
BEGIN:DAYLIGHT
TZNAME:EDT
DTSTART:20240310T020000
TZOFFSETFROM:-0500
TZOFFSETTO:-0400
RDATE:20250309T020000
END:DAYLIGHT
END:VTIMEZONE
BEGIN:VEVENT
UID:ec556af8-028b-4f12-b47e-3734d445ab89
DTSTAMP:20260422T173645Z
CATEGORIES:Le Festif!
CLASS:PUBLIC
DESCRIPTION;ALTREP="CID:<FFFF__=0ABBE548DFE235B58f9e8a93d@coffeebean.com>":
 \n\n\n\nNe manquez pas Salebarbes lors de leur performance à Place Desjard
 ins dans le cadre du Festif! de Baie-Saint-Paul. Salebarbes offre un mélan
 ge unique de sonorités folk-rock teintées de poésie urbaine. Leur musique 
 captivante et leurs paroles introspectives créent une atmosphère intime et
  envoûtante qui résonne avec leur public.\nFormé par des musiciens talentu
 eux\, Salebarbes a su se distinguer sur la scène musicale québécoise grâce
  à des compositions originales et des performances dynamiques. Avec leur d
 ernier album acclamé par la critique\, le groupe continue d'explorer de no
 uvelles avenues sonores tout en restant fidèle à leur identité artistique 
 distinctive.\nNe ratez pas l'opportunité de découvrir Salebarbes en direct
  à Place Desjardins. Leur concert promet d'être un moment mémorable\, remp
 li de mélodies envoûtantes et d'une énergie contagieuse. Préparez-vous à ê
 tre transporté par leur univers musical unique lors de cette soirée inoubl
 iable au Festif!\n\n\n\n
DTSTART:20240719T013000Z
DTEND:20240719T030000Z
GEO:+47.440018;-70.505325
LOCATION:Place Desjardins
ORGANIZER:
SEQUENCE:1
SUMMARY:Salebarbes - Le Festif!
TRANSP:OPAQUE
URL:https://baiesaintpaulguide.com/evenements/salebarbes-le-festif.html
END:VEVENT
END:VCALENDAR
