BEGIN:VCALENDAR
VERSION:2.0
PRODID:-//Baie-Saint-Paul Guide//NONSGML kigkonsult.se iCalcreator 2.30.10/
 /
CALSCALE:GREGORIAN
METHOD:PUBLISH
UID:fa3144e5-4821-45c0-89e9-2d2cc6a32f8e
X-WR-CALNAME:iCagenda
X-WR-CALDESC:Event Management Extension for Joomla!
X-WR-RELCALID:3E26604A-50F4-4449-8B3E-E4F4932D05B5
X-WR-TIMEZONE:America/Toronto
BEGIN:VTIMEZONE
TZID:America/Toronto
BEGIN:STANDARD
TZNAME:EST
DTSTART:20231105T020000
TZOFFSETFROM:-0400
TZOFFSETTO:-0500
RDATE:20241103T020000
RDATE:20251102T020000
END:STANDARD
BEGIN:DAYLIGHT
TZNAME:EDT
DTSTART:20240310T020000
TZOFFSETFROM:-0500
TZOFFSETTO:-0400
RDATE:20250309T020000
END:DAYLIGHT
END:VTIMEZONE
BEGIN:VEVENT
UID:27237c1b-1bff-4514-b637-298c7b1297dd
DTSTAMP:20260422T133936Z
CATEGORIES:Tony et Charlo
CLASS:PUBLIC
DESCRIPTION;ALTREP="CID:<FFFF__=0ABBE548DFE235B58f9e8a93d@coffeebean.com>":
 \nSPECTACLE GRATUIT!&nbsp\; Samuel Labbé un Chansonnier dynamique et polyv
 alent\, il enflamme la scène avec son énergie et son charisme\, qui crée d
 es partys mémorables!\n\n\nÉtant un animateur de nature\, Samuel connecte 
 avec la foule devant lui et ainsi crée des soirées mouvementé. Il ne refus
 e aucune demande spéciale s’il a déjà entendu la chanson\, et ne craint pa
 s d’essayer vos propositions les plus folles&nbsp\;\n\n\nUne soirée à ne p
 as manquer\, psssttt c'est gratuit\n
DTSTART:20240728T020000Z
DTEND:20240728T033000Z
GEO:+47.443443;-70.508095
LOCATION:Tony et Charlo
ORGANIZER:
SEQUENCE:1
SUMMARY:Samuel Labbé chez Tony et Charlo
TRANSP:OPAQUE
URL:https://baiesaintpaulguide.com/evenements/samuel-labbe-chez-tony-et-cha
 rlo.html
END:VEVENT
END:VCALENDAR
