BEGIN:VCALENDAR
VERSION:2.0
PRODID:-//Baie-Saint-Paul Guide//NONSGML kigkonsult.se iCalcreator 2.30.10/
 /
CALSCALE:GREGORIAN
METHOD:PUBLISH
UID:8027f4ad-5875-4d4b-a36d-ffb61492ff81
X-WR-CALNAME:iCagenda
X-WR-CALDESC:Event Management Extension for Joomla!
X-WR-RELCALID:3E26604A-50F4-4449-8B3E-E4F4932D05B5
X-WR-TIMEZONE:America/Toronto
BEGIN:VTIMEZONE
TZID:America/Toronto
BEGIN:STANDARD
TZNAME:EST
DTSTART:20231105T020000
TZOFFSETFROM:-0400
TZOFFSETTO:-0500
RDATE:20241103T020000
RDATE:20251102T020000
END:STANDARD
BEGIN:DAYLIGHT
TZNAME:EDT
DTSTART:20240310T020000
TZOFFSETFROM:-0500
TZOFFSETTO:-0400
RDATE:20250309T020000
END:DAYLIGHT
END:VTIMEZONE
BEGIN:VEVENT
UID:5effe61c-34fd-4451-8c33-cc5c2539836d
DTSTAMP:20260422T133020Z
CATEGORIES:Bistro des Balcons
CLASS:PUBLIC
DESCRIPTION;ALTREP="CID:<FFFF__=0ABBE548DFE235B58f9e8a93d@coffeebean.com>":
 Folk\, Blues\, Punk Contributions volontaires // Bienvenue à toustes ! BIO
  : 'Stompin Trees alchimise folklore cru\, blues nordique\, et punk rural 
 pour créer un heureux tumulte qui donne envie de danser et chanter jusqu’a
 ux premières lueurs. Composé d’individus distincts aux backgrounds diversi
 fiés\, le quintet réinterprète de manière moderne ce que la musique fut au
 trefois\; un liant social\, une force brute provenant du peuple. Stompin' 
 Trees installent en alternance des ambiances tantôt lugubres\, tantôt magi
 que.La voix rocailleuse du chanteur et ses mimiques incarnées de conteur n
 ous entraînent sur les routes du territoire\, à travers des tempêtes de qu
 estionnements et à la rencontre de personnages spectaculaires' - Emmanuel 
 Pierrot
DTSTART:20240824T000000Z
DTEND:20240824T020000Z
GEO:+47.438202;-70.505577
LOCATION:Auberge & Bistro des Balcons
ORGANIZER:
SEQUENCE:1
SUMMARY:Stompin Trees au Bistro des Balcons
TRANSP:OPAQUE
URL:https://baiesaintpaulguide.com/evenements/stompin-trees-au-bistro-des-b
 alcons.html
END:VEVENT
END:VCALENDAR
