BEGIN:VCALENDAR
VERSION:2.0
PRODID:-//Baie-Saint-Paul Guide//NONSGML kigkonsult.se iCalcreator 2.30.10/
 /
CALSCALE:GREGORIAN
METHOD:PUBLISH
UID:0175d1ee-84c0-4eec-95e3-57ccd40bef54
X-WR-CALNAME:iCagenda
X-WR-CALDESC:Event Management Extension for Joomla!
X-WR-RELCALID:3E26604A-50F4-4449-8B3E-E4F4932D05B5
X-WR-TIMEZONE:America/Toronto
BEGIN:VTIMEZONE
TZID:America/Toronto
BEGIN:STANDARD
TZNAME:EST
DTSTART:20231105T020000
TZOFFSETFROM:-0400
TZOFFSETTO:-0500
RDATE:20241103T020000
RDATE:20251102T020000
END:STANDARD
BEGIN:DAYLIGHT
TZNAME:EDT
DTSTART:20240310T020000
TZOFFSETFROM:-0500
TZOFFSETTO:-0400
RDATE:20250309T020000
END:DAYLIGHT
END:VTIMEZONE
BEGIN:VEVENT
UID:32a07046-8190-45b5-9cea-c3bf9de3fb40
DTSTAMP:20260422T133158Z
CATEGORIES:Bistro des Balcons
CLASS:PUBLIC
DESCRIPTION;ALTREP="CID:<FFFF__=0ABBE548DFE235B58f9e8a93d@coffeebean.com>":
 THE BOREDOM EMPIREPunk\, RockContributions volontaires // Bienvenue à tous
 tes !\nUn son Garage/Punk'N'Roll provenant d'un amour inconditionnel du ro
 ck des 60's et du punk oldies donne à Boredom Empire une vibe électrisante
  sur scène! Un band formé en 2018 sur la rive-sud de la ville de Québec co
 mposé de Phil au vocal/guit ainsi que son père André au drum\, Antoine à l
 a basse/vocal et Endrick à la guit. Des paroles crues et une énergie Rock'
 N'Roll vous attendent!&nbsp\;
DTSTART:20240728T000000Z
DTEND:20240728T020000Z
GEO:+47.438202;-70.505577
LOCATION:Auberge & Bistro des Balcons
ORGANIZER:
SEQUENCE:1
SUMMARY:The Boredom Empire au Bistro des Balcons
TRANSP:OPAQUE
URL:https://baiesaintpaulguide.com/evenements/the-boredom-empire-au-bistro-
 des-balcons.html
END:VEVENT
END:VCALENDAR
