BEGIN:VCALENDAR
VERSION:2.0
PRODID:-//Baie-Saint-Paul Guide//NONSGML kigkonsult.se iCalcreator 2.30.10/
 /
CALSCALE:GREGORIAN
METHOD:PUBLISH
UID:5e83e8b4-6220-405a-aada-14a7b045e8f7
X-WR-CALNAME:iCagenda
X-WR-CALDESC:Event Management Extension for Joomla!
X-WR-RELCALID:3E26604A-50F4-4449-8B3E-E4F4932D05B5
X-WR-TIMEZONE:America/Toronto
BEGIN:VTIMEZONE
TZID:America/Toronto
BEGIN:STANDARD
TZNAME:EST
DTSTART:20231105T020000
TZOFFSETFROM:-0400
TZOFFSETTO:-0500
RDATE:20241103T020000
RDATE:20251102T020000
END:STANDARD
BEGIN:DAYLIGHT
TZNAME:EDT
DTSTART:20240310T020000
TZOFFSETFROM:-0500
TZOFFSETTO:-0400
RDATE:20250309T020000
END:DAYLIGHT
END:VTIMEZONE
BEGIN:VEVENT
UID:5c7b5f33-fd77-4cd9-ab4e-0704f0db09ca
DTSTAMP:20260422T133958Z
CATEGORIES:Le Festif!
CLASS:PUBLIC
DESCRIPTION;ALTREP="CID:<FFFF__=0ABBE548DFE235B58f9e8a93d@coffeebean.com>":
 Rejoignez-nous pour un autre concert gratuit des Pistol Packin' Mamas\, ce
 tte fois à En route vers le Quai Bell : halte routière. Originaires de La 
 Nouvelle-Orléans\, ces musiciennes talentueuses apporteront leur énergie e
 t leur style unique à cet événement en plein air.\nVenez profiter de leur 
 musique entraînante et vibrante dans une ambiance décontractée. Ce sera l'
 occasion parfaite pour découvrir le charme et le talent des Pistol Packin'
  Mamas tout en profitant de la beauté de l'environnement naturel. Ne manqu
 ez pas cette chance de vivre une expérience musicale inoubliable!
DTSTART:20240720T174500Z
DTEND:20240720T183000Z
GEO:+47.439297;-70.501938
LOCATION:En route vers le Quai Bell : halte routière
ORGANIZER:
SEQUENCE:1
SUMMARY:The Pistol Packin' Mamas - Le Festif!
TRANSP:OPAQUE
URL:https://baiesaintpaulguide.com/evenements/the-pistol-packin-mamas-le-fe
 stif-2.html
END:VEVENT
END:VCALENDAR
