BEGIN:VCALENDAR
VERSION:2.0
PRODID:-//Baie-Saint-Paul Guide//NONSGML kigkonsult.se iCalcreator 2.30.10/
 /
CALSCALE:GREGORIAN
METHOD:PUBLISH
UID:28326aa8-9e29-493b-858d-18726f2b1789
X-WR-CALNAME:iCagenda
X-WR-CALDESC:Event Management Extension for Joomla!
X-WR-RELCALID:3E26604A-50F4-4449-8B3E-E4F4932D05B5
X-WR-TIMEZONE:America/Toronto
BEGIN:VTIMEZONE
TZID:America/Toronto
BEGIN:STANDARD
TZNAME:EST
DTSTART:20231105T020000
TZOFFSETFROM:-0400
TZOFFSETTO:-0500
RDATE:20241103T020000
RDATE:20251102T020000
END:STANDARD
BEGIN:DAYLIGHT
TZNAME:EDT
DTSTART:20240310T020000
TZOFFSETFROM:-0500
TZOFFSETTO:-0400
RDATE:20250309T020000
END:DAYLIGHT
END:VTIMEZONE
BEGIN:VEVENT
UID:b31a5e09-b3b9-48c1-8072-9eb73312505c
DTSTAMP:20260422T133959Z
CATEGORIES:Le Festif!
CLASS:PUBLIC
DESCRIPTION;ALTREP="CID:<FFFF__=0ABBE548DFE235B58f9e8a93d@coffeebean.com>":
 Ne manquez pas The Pistol Packin' Mamas\, un événement Off Festif! qui aur
 a lieu à la boulangerie Les Bonyeuses. Ce concert en entrée libre promet d
 e vous offrir une expérience musicale unique et énergisante.\nProfitez de 
 la musique entraînante des Pistol Packin' Mamas tout en savourant un crois
 sant ou un café. Avec leur mélange unique de genres musicaux et leur énerg
 ie débordante\, elles sauront animer votre matinée et vous offrir un momen
 t mémorable. Venez découvrir leur talent exceptionnel dans une ambiance ch
 aleureuse et conviviale.
DTSTART:20240719T143000Z
DTEND:20240719T160000Z
GEO:+47.444012;-70.51506
LOCATION:Off Festif! : Les Bonyeuses
ORGANIZER:
SEQUENCE:1
SUMMARY:The Pistol Packin' Mamas - Le Festif!
TRANSP:OPAQUE
URL:https://baiesaintpaulguide.com/evenements/the-pistol-packin-mamas-le-fe
 stif.html
END:VEVENT
END:VCALENDAR
