BEGIN:VCALENDAR
VERSION:2.0
PRODID:-//Baie-Saint-Paul Guide//NONSGML kigkonsult.se iCalcreator 2.30.10/
 /
CALSCALE:GREGORIAN
METHOD:PUBLISH
UID:c15a99cb-2c13-466e-8895-798f70ced3d2
X-WR-CALNAME:iCagenda
X-WR-CALDESC:Event Management Extension for Joomla!
X-WR-RELCALID:3E26604A-50F4-4449-8B3E-E4F4932D05B5
X-WR-TIMEZONE:America/Toronto
BEGIN:VTIMEZONE
TZID:America/Toronto
BEGIN:STANDARD
TZNAME:EST
DTSTART:20231105T020000
TZOFFSETFROM:-0400
TZOFFSETTO:-0500
RDATE:20241103T020000
RDATE:20251102T020000
END:STANDARD
BEGIN:DAYLIGHT
TZNAME:EDT
DTSTART:20240310T020000
TZOFFSETFROM:-0500
TZOFFSETTO:-0400
RDATE:20250309T020000
END:DAYLIGHT
END:VTIMEZONE
BEGIN:VEVENT
UID:1f4f5e3e-2ef1-4251-b077-f70e3892d2cf
DTSTAMP:20260422T133021Z
CATEGORIES:Les Dimanches Musicaux
CLASS:PUBLIC
DESCRIPTION;ALTREP="CID:<FFFF__=0ABBE548DFE235B58f9e8a93d@coffeebean.com>":
 Rejoignez-nous pour un moment musical envoûtant avec le Trio LVN aux Diman
 ches Musicaux. Cet événement se déroulera dans la chapelle paisible de la 
 Maison Mère\, accompagné de café et de petites douceurs.\nNe manquez pas c
 ette occasion de vous imprégner de l'ambiance intime de la chapelle de la 
 Maison Mère et de vous laisser emporter par les harmonies envoûtantes du T
 rio LVN\, avec guitare\, saxophone et contrebasse\, aux Dimanches Musicaux
 .\nLe prix d'entrée est de 15 $ pour l'admission générale\, gratuite pour 
 les enfants de 12 ans et moins\, et 100 $ pour la série de 8 concerts.\nAc
 hetez des billets en ligne
DTSTART:20240804T150000Z
DTEND:20240804T160000Z
GEO:+47.43856;-70.506561
LOCATION:Chapelle de Maison Mère
ORGANIZER:
SEQUENCE:1
SUMMARY:Trio LVN - Les Dimanches Musicaux
TRANSP:OPAQUE
URL:https://baiesaintpaulguide.com/evenements/trio-lvn-les-dimanches-musica
 ux.html
END:VEVENT
END:VCALENDAR
